BEGIN:VCALENDAR
VERSION:2.0
PRODID:-//MCP El Salvador - ECPv6.15.20//NONSGML v1.0//EN
CALSCALE:GREGORIAN
METHOD:PUBLISH
X-ORIGINAL-URL:https://mcpelsalvador.org.sv
X-WR-CALDESC:Eventos para MCP El Salvador
REFRESH-INTERVAL;VALUE=DURATION:PT1H
X-Robots-Tag:noindex
X-PUBLISHED-TTL:PT1H
BEGIN:VTIMEZONE
TZID:America/El_Salvador
BEGIN:STANDARD
TZOFFSETFROM:-0600
TZOFFSETTO:-0600
TZNAME:CST
DTSTART:20220101T000000
END:STANDARD
END:VTIMEZONE
BEGIN:VEVENT
DTSTART;TZID=America/El_Salvador:20230630T080000
DTEND;TZID=America/El_Salvador:20230630T170000
DTSTAMP:20260425T220347
CREATED:20230103T160458Z
LAST-MODIFIED:20230103T160458Z
UID:18226-1688112000-1688144400@mcpelsalvador.org.sv
SUMMARY:Boletín Informativo trimestral
DESCRIPTION:
URL:https://mcpelsalvador.org.sv/calendario/boletin-informativo-trimestral-2/
END:VEVENT
END:VCALENDAR