BEGIN:VCALENDAR
VERSION:2.0
PRODID:-//MCP El Salvador - ECPv6.15.20//NONSGML v1.0//EN
CALSCALE:GREGORIAN
METHOD:PUBLISH
X-WR-CALNAME:MCP El Salvador
X-ORIGINAL-URL:https://mcpelsalvador.org.sv
X-WR-CALDESC:Eventos para MCP El Salvador
REFRESH-INTERVAL;VALUE=DURATION:PT1H
X-Robots-Tag:noindex
X-PUBLISHED-TTL:PT1H
BEGIN:VTIMEZONE
TZID:America/El_Salvador
BEGIN:STANDARD
TZOFFSETFROM:-0600
TZOFFSETTO:-0600
TZNAME:CST
DTSTART:20220101T000000
END:STANDARD
END:VTIMEZONE
BEGIN:VEVENT
DTSTART;TZID=America/El_Salvador:20230921T080000
DTEND;TZID=America/El_Salvador:20230921T170000
DTSTAMP:20260425T183329
CREATED:20230103T152726Z
LAST-MODIFIED:20230103T152726Z
UID:18156-1695283200-1695315600@mcpelsalvador.org.sv
SUMMARY:Plenaria de Supervisión
DESCRIPTION:
URL:https://mcpelsalvador.org.sv/calendario/plenaria-de-supervision-25/
END:VEVENT
BEGIN:VEVENT
DTSTART;TZID=America/El_Salvador:20230921T080000
DTEND;TZID=America/El_Salvador:20230921T170000
DTSTAMP:20260425T183329
CREATED:20230103T160124Z
LAST-MODIFIED:20230103T160124Z
UID:18218-1695283200-1695315600@mcpelsalvador.org.sv
SUMMARY:Taller de Fortalecimiento de Miembros
DESCRIPTION:
URL:https://mcpelsalvador.org.sv/calendario/taller-de-fortalecimiento-de-miembros-4/
END:VEVENT
END:VCALENDAR