BEGIN:VCALENDAR
VERSION:2.0
PRODID:-//MCP El Salvador - ECPv6.15.20//NONSGML v1.0//EN
CALSCALE:GREGORIAN
METHOD:PUBLISH
X-WR-CALNAME:MCP El Salvador
X-ORIGINAL-URL:https://mcpelsalvador.org.sv
X-WR-CALDESC:Eventos para MCP El Salvador
REFRESH-INTERVAL;VALUE=DURATION:PT1H
X-Robots-Tag:noindex
X-PUBLISHED-TTL:PT1H
BEGIN:VTIMEZONE
TZID:America/El_Salvador
BEGIN:STANDARD
TZOFFSETFROM:-0600
TZOFFSETTO:-0600
TZNAME:CST
DTSTART:20230101T000000
END:STANDARD
END:VTIMEZONE
BEGIN:VEVENT
DTSTART;TZID=America/El_Salvador:20240215T080000
DTEND;TZID=America/El_Salvador:20240215T170000
DTSTAMP:20260425T091032
CREATED:20240102T174731Z
LAST-MODIFIED:20240102T174731Z
UID:19660-1707984000-1708016400@mcpelsalvador.org.sv
SUMMARY:Comité Ejecutivo Ampliado
DESCRIPTION:
URL:https://mcpelsalvador.org.sv/calendario/comite-ejecutivo-ampliado-25/
END:VEVENT
BEGIN:VEVENT
DTSTART;TZID=America/El_Salvador:20240215T080000
DTEND;TZID=America/El_Salvador:20240215T170000
DTSTAMP:20260425T091032
CREATED:20240102T203033Z
LAST-MODIFIED:20240102T203033Z
UID:19742-1707984000-1708016400@mcpelsalvador.org.sv
SUMMARY:Seguimiento a CCM Evolution
DESCRIPTION:
URL:https://mcpelsalvador.org.sv/calendario/seguimiento-a-ccm-evolution-10/
END:VEVENT
END:VCALENDAR