BEGIN:VCALENDAR
VERSION:2.0
PRODID:-//MCP El Salvador - ECPv6.15.20//NONSGML v1.0//EN
CALSCALE:GREGORIAN
METHOD:PUBLISH
X-WR-CALNAME:MCP El Salvador
X-ORIGINAL-URL:https://mcpelsalvador.org.sv
X-WR-CALDESC:Eventos para MCP El Salvador
REFRESH-INTERVAL;VALUE=DURATION:PT1H
X-Robots-Tag:noindex
X-PUBLISHED-TTL:PT1H
BEGIN:VTIMEZONE
TZID:America/El_Salvador
BEGIN:STANDARD
TZOFFSETFROM:-0600
TZOFFSETTO:-0600
TZNAME:CST
DTSTART:20230101T000000
END:STANDARD
END:VTIMEZONE
BEGIN:VEVENT
DTSTART;TZID=America/El_Salvador:20240220T080000
DTEND;TZID=America/El_Salvador:20240220T170000
DTSTAMP:20260425T090930
CREATED:20240102T201053Z
LAST-MODIFIED:20240102T201053Z
UID:19704-1708416000-1708448400@mcpelsalvador.org.sv
SUMMARY:Visita de Campo
DESCRIPTION:
URL:https://mcpelsalvador.org.sv/calendario/visita-de-campo-36/
END:VEVENT
END:VCALENDAR