BEGIN:VCALENDAR
VERSION:2.0
PRODID:-//MCP El Salvador - ECPv6.15.20//NONSGML v1.0//EN
CALSCALE:GREGORIAN
METHOD:PUBLISH
X-WR-CALNAME:MCP El Salvador
X-ORIGINAL-URL:https://mcpelsalvador.org.sv
X-WR-CALDESC:Eventos para MCP El Salvador
REFRESH-INTERVAL;VALUE=DURATION:PT1H
X-Robots-Tag:noindex
X-PUBLISHED-TTL:PT1H
BEGIN:VTIMEZONE
TZID:America/El_Salvador
BEGIN:STANDARD
TZOFFSETFROM:-0600
TZOFFSETTO:-0600
TZNAME:CST
DTSTART:20230101T000000
END:STANDARD
END:VTIMEZONE
BEGIN:VEVENT
DTSTART;TZID=America/El_Salvador:20240815T080000
DTEND;TZID=America/El_Salvador:20240815T170000
DTSTAMP:20260424T221105
CREATED:20240102T174850Z
LAST-MODIFIED:20240102T174850Z
UID:19666-1723708800-1723741200@mcpelsalvador.org.sv
SUMMARY:Comité Ejecutivo Ampliado
DESCRIPTION:
URL:https://mcpelsalvador.org.sv/calendario/comite-ejecutivo-ampliado-28/
END:VEVENT
BEGIN:VEVENT
DTSTART;TZID=America/El_Salvador:20240815T080000
DTEND;TZID=America/El_Salvador:20240815T170000
DTSTAMP:20260424T221105
CREATED:20240102T203141Z
LAST-MODIFIED:20240102T203141Z
UID:19748-1723708800-1723741200@mcpelsalvador.org.sv
SUMMARY:Seguimiento a CCM Evolution
DESCRIPTION:
URL:https://mcpelsalvador.org.sv/calendario/seguimiento-a-ccm-evolution-13/
END:VEVENT
BEGIN:VEVENT
DTSTART;TZID=America/El_Salvador:20240815T092000
DTEND;TZID=America/El_Salvador:20240815T125000
DTSTAMP:20260424T221105
CREATED:20240812T215536Z
LAST-MODIFIED:20240812T215556Z
UID:21026-1723713600-1723726200@mcpelsalvador.org.sv
SUMMARY:Reunión Plenaria Extraordinaria
DESCRIPTION:
URL:https://mcpelsalvador.org.sv/calendario/reunion-plenaria-extraordinaria-3/
END:VEVENT
END:VCALENDAR