BEGIN:VCALENDAR
VERSION:2.0
PRODID:-//MCP El Salvador - ECPv6.15.20//NONSGML v1.0//EN
CALSCALE:GREGORIAN
METHOD:PUBLISH
X-WR-CALNAME:MCP El Salvador
X-ORIGINAL-URL:https://mcpelsalvador.org.sv
X-WR-CALDESC:Eventos para MCP El Salvador
REFRESH-INTERVAL;VALUE=DURATION:PT1H
X-Robots-Tag:noindex
X-PUBLISHED-TTL:PT1H
BEGIN:VTIMEZONE
TZID:America/El_Salvador
BEGIN:STANDARD
TZOFFSETFROM:-0600
TZOFFSETTO:-0600
TZNAME:CST
DTSTART:20250101T000000
END:STANDARD
END:VTIMEZONE
BEGIN:VEVENT
DTSTART;TZID=America/El_Salvador:20260204T080000
DTEND;TZID=America/El_Salvador:20260204T170000
DTSTAMP:20260423T142855
CREATED:20260219T175909Z
LAST-MODIFIED:20260219T175909Z
UID:23142-1770192000-1770224400@mcpelsalvador.org.sv
SUMMARY:Proyecto Multipais - Comité Nacional
DESCRIPTION:
URL:https://mcpelsalvador.org.sv/calendario/proyecto-multipais-comite-nacional/
END:VEVENT
END:VCALENDAR