BEGIN:VCALENDAR
VERSION:2.0
PRODID:-//MCP El Salvador - ECPv6.15.20//NONSGML v1.0//EN
CALSCALE:GREGORIAN
METHOD:PUBLISH
X-ORIGINAL-URL:https://mcpelsalvador.org.sv
X-WR-CALDESC:Eventos para MCP El Salvador
REFRESH-INTERVAL;VALUE=DURATION:PT1H
X-Robots-Tag:noindex
X-PUBLISHED-TTL:PT1H
BEGIN:VTIMEZONE
TZID:America/El_Salvador
BEGIN:STANDARD
TZOFFSETFROM:-0600
TZOFFSETTO:-0600
TZNAME:CST
DTSTART:20220101T000000
END:STANDARD
END:VTIMEZONE
BEGIN:VEVENT
DTSTART;TZID=America/El_Salvador:20230810T080000
DTEND;TZID=America/El_Salvador:20230810T170000
DTSTAMP:20260425T202932
CREATED:20230103T154109Z
LAST-MODIFIED:20230103T154109Z
UID:18184-1691654400-1691686800@mcpelsalvador.org.sv
SUMMARY:Comité de Monitoreo
DESCRIPTION:
URL:https://mcpelsalvador.org.sv/calendario/comite-de-monitoreo-14/
END:VEVENT
BEGIN:VEVENT
DTSTART;TZID=America/El_Salvador:20230817T080000
DTEND;TZID=America/El_Salvador:20230817T170000
DTSTAMP:20260425T202932
CREATED:20230103T153107Z
LAST-MODIFIED:20230103T153107Z
UID:18168-1692259200-1692291600@mcpelsalvador.org.sv
SUMMARY:Comité Ejecutivo Ampliado
DESCRIPTION:
URL:https://mcpelsalvador.org.sv/calendario/comite-ejecutivo-ampliado-21/
END:VEVENT
BEGIN:VEVENT
DTSTART;TZID=America/El_Salvador:20230822T080000
DTEND;TZID=America/El_Salvador:20230823T170000
DTSTAMP:20260425T202932
CREATED:20230822T163820Z
LAST-MODIFIED:20230822T163820Z
UID:19272-1692691200-1692810000@mcpelsalvador.org.sv
SUMMARY:Uso Estratégico de la información de la cascada de atención y prevención
DESCRIPTION:
URL:https://mcpelsalvador.org.sv/calendario/uso-estrategico-de-la-informacion-de-la-cascada-de-atencion-y-prevencion/
END:VEVENT
BEGIN:VEVENT
DTSTART;TZID=America/El_Salvador:20230824T080000
DTEND;TZID=America/El_Salvador:20230824T120000
DTSTAMP:20260425T202932
CREATED:20230103T152229Z
LAST-MODIFIED:20230825T163625Z
UID:18142-1692864000-1692878400@mcpelsalvador.org.sv
SUMMARY:Plenaria de Aprobación
DESCRIPTION:
URL:https://mcpelsalvador.org.sv/calendario/plenaria-de-aprobacion-26/
END:VEVENT
BEGIN:VEVENT
DTSTART;TZID=America/El_Salvador:20230824T080000
DTEND;TZID=America/El_Salvador:20230824T170000
DTSTAMP:20260425T202932
CREATED:20230103T160250Z
LAST-MODIFIED:20230103T160250Z
UID:18222-1692864000-1692896400@mcpelsalvador.org.sv
SUMMARY:Presentación de Tableros de Mando
DESCRIPTION:
URL:https://mcpelsalvador.org.sv/calendario/presentacion-de-tableros-de-mando-13/
END:VEVENT
BEGIN:VEVENT
DTSTART;TZID=America/El_Salvador:20230830T080000
DTEND;TZID=America/El_Salvador:20230830T170000
DTSTAMP:20260425T202932
CREATED:20230103T154917Z
LAST-MODIFIED:20230103T154917Z
UID:18206-1693382400-1693414800@mcpelsalvador.org.sv
SUMMARY:Visita de Campo
DESCRIPTION:
URL:https://mcpelsalvador.org.sv/calendario/visita-de-campo-33/
END:VEVENT
BEGIN:VEVENT
DTSTART;TZID=America/El_Salvador:20230914T080000
DTEND;TZID=America/El_Salvador:20230914T170000
DTSTAMP:20260425T202932
CREATED:20230103T153415Z
LAST-MODIFIED:20230103T153415Z
UID:18178-1694678400-1694710800@mcpelsalvador.org.sv
SUMMARY:Comité Conjunto
DESCRIPTION:
URL:https://mcpelsalvador.org.sv/calendario/comite-conjunto-9/
END:VEVENT
BEGIN:VEVENT
DTSTART;TZID=America/El_Salvador:20230921T080000
DTEND;TZID=America/El_Salvador:20230921T170000
DTSTAMP:20260425T202932
CREATED:20230103T152726Z
LAST-MODIFIED:20230103T152726Z
UID:18156-1695283200-1695315600@mcpelsalvador.org.sv
SUMMARY:Plenaria de Supervisión
DESCRIPTION:
URL:https://mcpelsalvador.org.sv/calendario/plenaria-de-supervision-25/
END:VEVENT
BEGIN:VEVENT
DTSTART;TZID=America/El_Salvador:20230921T080000
DTEND;TZID=America/El_Salvador:20230921T170000
DTSTAMP:20260425T202932
CREATED:20230103T160124Z
LAST-MODIFIED:20230103T160124Z
UID:18218-1695283200-1695315600@mcpelsalvador.org.sv
SUMMARY:Taller de Fortalecimiento de Miembros
DESCRIPTION:
URL:https://mcpelsalvador.org.sv/calendario/taller-de-fortalecimiento-de-miembros-4/
END:VEVENT
BEGIN:VEVENT
DTSTART;TZID=America/El_Salvador:20230927T090000
DTEND;TZID=America/El_Salvador:20230927T130000
DTSTAMP:20260425T202932
CREATED:20230928T134359Z
LAST-MODIFIED:20230928T134359Z
UID:19331-1695805200-1695819600@mcpelsalvador.org.sv
SUMMARY:Reunión CP10-2023
DESCRIPTION:
URL:https://mcpelsalvador.org.sv/calendario/reunion-cp10-2023/
END:VEVENT
BEGIN:VEVENT
DTSTART;TZID=America/El_Salvador:20230928T080000
DTEND;TZID=America/El_Salvador:20230928T170000
DTSTAMP:20260425T202932
CREATED:20230103T154953Z
LAST-MODIFIED:20230103T154953Z
UID:18208-1695888000-1695920400@mcpelsalvador.org.sv
SUMMARY:Visita de Campo
DESCRIPTION:
URL:https://mcpelsalvador.org.sv/calendario/visita-de-campo-34/
END:VEVENT
BEGIN:VEVENT
DTSTART;TZID=America/El_Salvador:20230928T090000
DTEND;TZID=America/El_Salvador:20230928T123000
DTSTAMP:20260425T202932
CREATED:20230920T180934Z
LAST-MODIFIED:20230920T180934Z
UID:19318-1695891600-1695904200@mcpelsalvador.org.sv
SUMMARY:Reunión Plenaria de Monitoreo
DESCRIPTION:
URL:https://mcpelsalvador.org.sv/calendario/reunion-plenaria-de-monitoreo-3/
END:VEVENT
BEGIN:VEVENT
DTSTART;TZID=America/El_Salvador:20230930T080000
DTEND;TZID=America/El_Salvador:20230930T170000
DTSTAMP:20260425T202932
CREATED:20230103T160536Z
LAST-MODIFIED:20230103T160536Z
UID:18228-1696060800-1696093200@mcpelsalvador.org.sv
SUMMARY:Boletín Informativo trimestral
DESCRIPTION:
URL:https://mcpelsalvador.org.sv/calendario/boletin-informativo-trimestral-3/
END:VEVENT
BEGIN:VEVENT
DTSTART;TZID=America/El_Salvador:20231012T080000
DTEND;TZID=America/El_Salvador:20231012T170000
DTSTAMP:20260425T202932
CREATED:20230103T153147Z
LAST-MODIFIED:20230103T153147Z
UID:18170-1697097600-1697130000@mcpelsalvador.org.sv
SUMMARY:Comité Ejecutivo Ampliado
DESCRIPTION:
URL:https://mcpelsalvador.org.sv/calendario/comite-ejecutivo-ampliado-22/
END:VEVENT
BEGIN:VEVENT
DTSTART;TZID=America/El_Salvador:20231012T080000
DTEND;TZID=America/El_Salvador:20231012T170000
DTSTAMP:20260425T202932
CREATED:20230103T161028Z
LAST-MODIFIED:20230103T161028Z
UID:18239-1697097600-1697130000@mcpelsalvador.org.sv
SUMMARY:Seguimiento a CCM Evolution
DESCRIPTION:
URL:https://mcpelsalvador.org.sv/calendario/seguimiento-a-ccm-evolution-9/
END:VEVENT
BEGIN:VEVENT
DTSTART;TZID=America/El_Salvador:20231019T080000
DTEND;TZID=America/El_Salvador:20231019T170000
DTSTAMP:20260425T202932
CREATED:20230103T152321Z
LAST-MODIFIED:20230103T152321Z
UID:18144-1697702400-1697734800@mcpelsalvador.org.sv
SUMMARY:Plenaria de Aprobación
DESCRIPTION:
URL:https://mcpelsalvador.org.sv/calendario/plenaria-de-aprobacion-27/
END:VEVENT
BEGIN:VEVENT
DTSTART;TZID=America/El_Salvador:20231025T080000
DTEND;TZID=America/El_Salvador:20231025T170000
DTSTAMP:20260425T202932
CREATED:20230103T154353Z
LAST-MODIFIED:20230103T154353Z
UID:18194-1698220800-1698253200@mcpelsalvador.org.sv
SUMMARY:Comité de Propuestas
DESCRIPTION:
URL:https://mcpelsalvador.org.sv/calendario/comite-de-propuestas-11/
END:VEVENT
BEGIN:VEVENT
DTSTART;TZID=America/El_Salvador:20231026T080000
DTEND;TZID=America/El_Salvador:20231026T170000
DTSTAMP:20260425T202932
CREATED:20230103T155022Z
LAST-MODIFIED:20230103T155022Z
UID:18210-1698307200-1698339600@mcpelsalvador.org.sv
SUMMARY:Visita de Campo
DESCRIPTION:
URL:https://mcpelsalvador.org.sv/calendario/visita-de-campo-35/
END:VEVENT
BEGIN:VEVENT
DTSTART;TZID=America/El_Salvador:20231109T080000
DTEND;TZID=America/El_Salvador:20231109T170000
DTSTAMP:20260425T202932
CREATED:20230103T154135Z
LAST-MODIFIED:20230103T154135Z
UID:18186-1699516800-1699549200@mcpelsalvador.org.sv
SUMMARY:Comité de Monitoreo
DESCRIPTION:
URL:https://mcpelsalvador.org.sv/calendario/comite-de-monitoreo-15/
END:VEVENT
BEGIN:VEVENT
DTSTART;TZID=America/El_Salvador:20231109T090000
DTEND;TZID=America/El_Salvador:20231109T113000
DTSTAMP:20260425T202932
CREATED:20231108T152320Z
LAST-MODIFIED:20231108T152457Z
UID:19448-1699520400-1699529400@mcpelsalvador.org.sv
SUMMARY:Reunión Plenaria Extraordinaria
DESCRIPTION:
URL:https://mcpelsalvador.org.sv/calendario/reunion-plenaria-extraordinaria-2/
END:VEVENT
BEGIN:VEVENT
DTSTART;TZID=America/El_Salvador:20231115T060000
DTEND;TZID=America/El_Salvador:20231115T183000
DTSTAMP:20260425T202932
CREATED:20231107T224550Z
LAST-MODIFIED:20231107T224550Z
UID:19442-1700028000-1700073000@mcpelsalvador.org.sv
SUMMARY:VI Retiro Anual de Miembros - Día 1
DESCRIPTION:
URL:https://mcpelsalvador.org.sv/calendario/vi-retiro-anual-de-miembros-dia-1/
END:VEVENT
BEGIN:VEVENT
DTSTART;TZID=America/El_Salvador:20231116T070000
DTEND;TZID=America/El_Salvador:20231116T173000
DTSTAMP:20260425T202932
CREATED:20231107T224704Z
LAST-MODIFIED:20231107T224704Z
UID:19445-1700118000-1700155800@mcpelsalvador.org.sv
SUMMARY:VI Retiro Anual de Miembros - Día 2
DESCRIPTION:
URL:https://mcpelsalvador.org.sv/calendario/vi-retiro-anual-de-miembros-dia-2/
END:VEVENT
BEGIN:VEVENT
DTSTART;TZID=America/El_Salvador:20231116T080000
DTEND;TZID=America/El_Salvador:20231116T170000
DTSTAMP:20260425T202932
CREATED:20230103T153225Z
LAST-MODIFIED:20230103T153225Z
UID:18172-1700121600-1700154000@mcpelsalvador.org.sv
SUMMARY:Comité Ejecutivo Ampliado
DESCRIPTION:
URL:https://mcpelsalvador.org.sv/calendario/comite-ejecutivo-ampliado-23/
END:VEVENT
BEGIN:VEVENT
DTSTART;TZID=America/El_Salvador:20231122T080000
DTEND;TZID=America/El_Salvador:20231123T170000
DTSTAMP:20260425T202932
CREATED:20230103T160728Z
LAST-MODIFIED:20230103T160728Z
UID:18232-1700640000-1700758800@mcpelsalvador.org.sv
SUMMARY:Retiro anual
DESCRIPTION:
URL:https://mcpelsalvador.org.sv/calendario/retiro-anual-4/
END:VEVENT
BEGIN:VEVENT
DTSTART;TZID=America/El_Salvador:20231123T080000
DTEND;TZID=America/El_Salvador:20231123T170000
DTSTAMP:20260425T202932
CREATED:20230103T152801Z
LAST-MODIFIED:20230103T152801Z
UID:18158-1700726400-1700758800@mcpelsalvador.org.sv
SUMMARY:Plenaria de Supervisión
DESCRIPTION:
URL:https://mcpelsalvador.org.sv/calendario/plenaria-de-supervision-26/
END:VEVENT
BEGIN:VEVENT
DTSTART;TZID=America/El_Salvador:20231201T080000
DTEND;TZID=America/El_Salvador:20231207T170000
DTSTAMP:20260425T202932
CREATED:20230103T161116Z
LAST-MODIFIED:20230103T161116Z
UID:18241-1701417600-1701968400@mcpelsalvador.org.sv
SUMMARY:Actividades en el marco de la celebración del 1 de Diciembre
DESCRIPTION:
URL:https://mcpelsalvador.org.sv/calendario/actividades-en-el-marco-de-la-celebracion-del-1-de-diciembre/
END:VEVENT
BEGIN:VEVENT
DTSTART;TZID=America/El_Salvador:20231207T080000
DTEND;TZID=America/El_Salvador:20231207T170000
DTSTAMP:20260425T202932
CREATED:20230103T152355Z
LAST-MODIFIED:20230103T152355Z
UID:18146-1701936000-1701968400@mcpelsalvador.org.sv
SUMMARY:Plenaria de Aprobación
DESCRIPTION:
URL:https://mcpelsalvador.org.sv/calendario/plenaria-de-aprobacion-28/
END:VEVENT
BEGIN:VEVENT
DTSTART;TZID=America/El_Salvador:20231229T080000
DTEND;TZID=America/El_Salvador:20231229T170000
DTSTAMP:20260425T202932
CREATED:20230103T160619Z
LAST-MODIFIED:20230103T160619Z
UID:18230-1703836800-1703869200@mcpelsalvador.org.sv
SUMMARY:Boletín Informativo trimestral
DESCRIPTION:
URL:https://mcpelsalvador.org.sv/calendario/boletin-informativo-trimestral-4/
END:VEVENT
BEGIN:VEVENT
DTSTART;TZID=America/El_Salvador:20240117T080000
DTEND;TZID=America/El_Salvador:20240117T170000
DTSTAMP:20260425T202932
CREATED:20240102T200652Z
LAST-MODIFIED:20240102T200652Z
UID:19684-1705478400-1705510800@mcpelsalvador.org.sv
SUMMARY:Comité de Propuestas
DESCRIPTION:
URL:https://mcpelsalvador.org.sv/calendario/comite-de-propuestas-12/
END:VEVENT
BEGIN:VEVENT
DTSTART;TZID=America/El_Salvador:20240125T080000
DTEND;TZID=America/El_Salvador:20240125T170000
DTSTAMP:20260425T202932
CREATED:20240102T173956Z
LAST-MODIFIED:20240124T164651Z
UID:19648-1706169600-1706202000@mcpelsalvador.org.sv
SUMMARY:Plenaria de Supervisión
DESCRIPTION:
URL:https://mcpelsalvador.org.sv/calendario/plenaria-de-supervision-27/
END:VEVENT
END:VCALENDAR