BEGIN:VCALENDAR
VERSION:2.0
PRODID:-//MCP El Salvador - ECPv6.15.20//NONSGML v1.0//EN
CALSCALE:GREGORIAN
METHOD:PUBLISH
X-ORIGINAL-URL:https://mcpelsalvador.org.sv
X-WR-CALDESC:Eventos para MCP El Salvador
REFRESH-INTERVAL;VALUE=DURATION:PT1H
X-Robots-Tag:noindex
X-PUBLISHED-TTL:PT1H
BEGIN:VTIMEZONE
TZID:America/El_Salvador
BEGIN:STANDARD
TZOFFSETFROM:-0600
TZOFFSETTO:-0600
TZNAME:CST
DTSTART:20230101T000000
END:STANDARD
END:VTIMEZONE
BEGIN:VEVENT
DTSTART;TZID=America/El_Salvador:20240306T080000
DTEND;TZID=America/El_Salvador:20240306T170000
DTSTAMP:20260425T091334
CREATED:20240102T200730Z
LAST-MODIFIED:20240102T200730Z
UID:19688-1709712000-1709744400@mcpelsalvador.org.sv
SUMMARY:Comité de Propuestas
DESCRIPTION:
URL:https://mcpelsalvador.org.sv/calendario/comite-de-propuestas-14/
END:VEVENT
BEGIN:VEVENT
DTSTART;TZID=America/El_Salvador:20240314T080000
DTEND;TZID=America/El_Salvador:20240314T170000
DTSTAMP:20260425T091334
CREATED:20240102T175215Z
LAST-MODIFIED:20240102T175215Z
UID:19670-1710403200-1710435600@mcpelsalvador.org.sv
SUMMARY:Comité Conjunto
DESCRIPTION:
URL:https://mcpelsalvador.org.sv/calendario/comite-conjunto-10/
END:VEVENT
BEGIN:VEVENT
DTSTART;TZID=America/El_Salvador:20240319T080000
DTEND;TZID=America/El_Salvador:20240319T170000
DTSTAMP:20260425T091334
CREATED:20240102T201442Z
LAST-MODIFIED:20240102T201442Z
UID:19716-1710835200-1710867600@mcpelsalvador.org.sv
SUMMARY:Diálogo de país
DESCRIPTION:
URL:https://mcpelsalvador.org.sv/calendario/dialogo-de-pais-2/
END:VEVENT
BEGIN:VEVENT
DTSTART;TZID=America/El_Salvador:20240321T080000
DTEND;TZID=America/El_Salvador:20240321T170000
DTSTAMP:20260425T091334
CREATED:20240102T174025Z
LAST-MODIFIED:20240102T174025Z
UID:19650-1711008000-1711040400@mcpelsalvador.org.sv
SUMMARY:Plenaria de Supervisión
DESCRIPTION:
URL:https://mcpelsalvador.org.sv/calendario/plenaria-de-supervision-28/
END:VEVENT
BEGIN:VEVENT
DTSTART;TZID=America/El_Salvador:20240404T090000
DTEND;TZID=America/El_Salvador:20240404T113000
DTSTAMP:20260425T091334
CREATED:20240403T223018Z
LAST-MODIFIED:20240403T223018Z
UID:20297-1712221200-1712230200@mcpelsalvador.org.sv
SUMMARY:Agenda Plenaria ME02
DESCRIPTION:
URL:https://mcpelsalvador.org.sv/calendario/agenda-plenaria-me02/
END:VEVENT
BEGIN:VEVENT
DTSTART;TZID=America/El_Salvador:20240410T080000
DTEND;TZID=America/El_Salvador:20240410T170000
DTSTAMP:20260425T091334
CREATED:20240102T200751Z
LAST-MODIFIED:20240102T200751Z
UID:19690-1712736000-1712768400@mcpelsalvador.org.sv
SUMMARY:Comité de Propuestas
DESCRIPTION:
URL:https://mcpelsalvador.org.sv/calendario/comite-de-propuestas-15/
END:VEVENT
BEGIN:VEVENT
DTSTART;TZID=America/El_Salvador:20240411T080000
DTEND;TZID=America/El_Salvador:20240411T170000
DTSTAMP:20260425T091334
CREATED:20240102T174755Z
LAST-MODIFIED:20240102T174755Z
UID:19662-1712822400-1712854800@mcpelsalvador.org.sv
SUMMARY:Comité Ejecutivo Ampliado
DESCRIPTION:
URL:https://mcpelsalvador.org.sv/calendario/comite-ejecutivo-ampliado-26/
END:VEVENT
BEGIN:VEVENT
DTSTART;TZID=America/El_Salvador:20240411T080000
DTEND;TZID=America/El_Salvador:20240411T170000
DTSTAMP:20260425T091334
CREATED:20240102T203102Z
LAST-MODIFIED:20240102T203102Z
UID:19744-1712822400-1712854800@mcpelsalvador.org.sv
SUMMARY:Seguimiento a CCM Evolution
DESCRIPTION:
URL:https://mcpelsalvador.org.sv/calendario/seguimiento-a-ccm-evolution-11/
END:VEVENT
BEGIN:VEVENT
DTSTART;TZID=America/El_Salvador:20240416T080000
DTEND;TZID=America/El_Salvador:20240416T170000
DTSTAMP:20260425T091334
CREATED:20240102T201148Z
LAST-MODIFIED:20240102T201148Z
UID:19706-1713254400-1713286800@mcpelsalvador.org.sv
SUMMARY:Visita de Campo
DESCRIPTION:
URL:https://mcpelsalvador.org.sv/calendario/visita-de-campo-37/
END:VEVENT
BEGIN:VEVENT
DTSTART;TZID=America/El_Salvador:20240418T080000
DTEND;TZID=America/El_Salvador:20240418T170000
DTSTAMP:20260425T091334
CREATED:20240102T202245Z
LAST-MODIFIED:20240102T202245Z
UID:19732-1713427200-1713459600@mcpelsalvador.org.sv
SUMMARY:Presentación Tableros de Mando
DESCRIPTION:
URL:https://mcpelsalvador.org.sv/calendario/presentacion-tableros-de-mando/
END:VEVENT
BEGIN:VEVENT
DTSTART;TZID=America/El_Salvador:20240419T093000
DTEND;TZID=America/El_Salvador:20240419T133000
DTSTAMP:20260425T091334
CREATED:20240102T173512Z
LAST-MODIFIED:20240416T163515Z
UID:19638-1713519000-1713533400@mcpelsalvador.org.sv
SUMMARY:Plenaria de Aprobación
DESCRIPTION:
URL:https://mcpelsalvador.org.sv/calendario/plenaria-de-aprobacion-30/
END:VEVENT
BEGIN:VEVENT
DTSTART;TZID=America/El_Salvador:20240425T080000
DTEND;TZID=America/El_Salvador:20240425T170000
DTSTAMP:20260425T091334
CREATED:20240102T201702Z
LAST-MODIFIED:20240102T201702Z
UID:19724-1714032000-1714064400@mcpelsalvador.org.sv
SUMMARY:Taller de fortalecimiento a miembros
DESCRIPTION:
URL:https://mcpelsalvador.org.sv/calendario/taller-de-fortalecimiento-a-miembros/
END:VEVENT
BEGIN:VEVENT
DTSTART;TZID=America/El_Salvador:20240508T080000
DTEND;TZID=America/El_Salvador:20240508T170000
DTSTAMP:20260425T091334
CREATED:20240102T200811Z
LAST-MODIFIED:20240102T200811Z
UID:19692-1715155200-1715187600@mcpelsalvador.org.sv
SUMMARY:Comité de Propuestas
DESCRIPTION:
URL:https://mcpelsalvador.org.sv/calendario/comite-de-propuestas-16/
END:VEVENT
BEGIN:VEVENT
DTSTART;TZID=America/El_Salvador:20240509T080000
DTEND;TZID=America/El_Salvador:20240509T170000
DTSTAMP:20260425T091334
CREATED:20240102T175354Z
LAST-MODIFIED:20240102T175354Z
UID:19678-1715241600-1715274000@mcpelsalvador.org.sv
SUMMARY:Comité de Monitoreo
DESCRIPTION:
URL:https://mcpelsalvador.org.sv/calendario/comite-de-monitoreo-17/
END:VEVENT
BEGIN:VEVENT
DTSTART;TZID=America/El_Salvador:20240516T080000
DTEND;TZID=America/El_Salvador:20240516T170000
DTSTAMP:20260425T091334
CREATED:20240102T175237Z
LAST-MODIFIED:20240102T175237Z
UID:19672-1715846400-1715878800@mcpelsalvador.org.sv
SUMMARY:Comité Conjunto
DESCRIPTION:
URL:https://mcpelsalvador.org.sv/calendario/comite-conjunto-11/
END:VEVENT
BEGIN:VEVENT
DTSTART;TZID=America/El_Salvador:20240523T080000
DTEND;TZID=America/El_Salvador:20240523T170000
DTSTAMP:20260425T091334
CREATED:20240102T174051Z
LAST-MODIFIED:20240523T211621Z
UID:19652-1716451200-1716483600@mcpelsalvador.org.sv
SUMMARY:Plenaria de Supervisión
DESCRIPTION:
URL:https://mcpelsalvador.org.sv/calendario/plenaria-de-supervision-29/
END:VEVENT
BEGIN:VEVENT
DTSTART;TZID=America/El_Salvador:20240606T080000
DTEND;TZID=America/El_Salvador:20240606T170000
DTSTAMP:20260425T091334
CREATED:20240102T200828Z
LAST-MODIFIED:20240102T200828Z
UID:19694-1717660800-1717693200@mcpelsalvador.org.sv
SUMMARY:Comité de Propuestas
DESCRIPTION:
URL:https://mcpelsalvador.org.sv/calendario/comite-de-propuestas-17/
END:VEVENT
BEGIN:VEVENT
DTSTART;TZID=America/El_Salvador:20240611T080000
DTEND;TZID=America/El_Salvador:20240611T170000
DTSTAMP:20260425T091334
CREATED:20240102T201502Z
LAST-MODIFIED:20240102T201502Z
UID:19718-1718092800-1718125200@mcpelsalvador.org.sv
SUMMARY:Diálogo de país
DESCRIPTION:
URL:https://mcpelsalvador.org.sv/calendario/dialogo-de-pais-4/
END:VEVENT
BEGIN:VEVENT
DTSTART;TZID=America/El_Salvador:20240613T080000
DTEND;TZID=America/El_Salvador:20240613T170000
DTSTAMP:20260425T091334
CREATED:20240102T174815Z
LAST-MODIFIED:20240102T174815Z
UID:19664-1718265600-1718298000@mcpelsalvador.org.sv
SUMMARY:Comité Ejecutivo Ampliado
DESCRIPTION:
URL:https://mcpelsalvador.org.sv/calendario/comite-ejecutivo-ampliado-27/
END:VEVENT
BEGIN:VEVENT
DTSTART;TZID=America/El_Salvador:20240613T080000
DTEND;TZID=America/El_Salvador:20240613T170000
DTSTAMP:20260425T091334
CREATED:20240102T203120Z
LAST-MODIFIED:20240102T203120Z
UID:19746-1718265600-1718298000@mcpelsalvador.org.sv
SUMMARY:Seguimiento a CCM Evolution
DESCRIPTION:
URL:https://mcpelsalvador.org.sv/calendario/seguimiento-a-ccm-evolution-12/
END:VEVENT
BEGIN:VEVENT
DTSTART;TZID=America/El_Salvador:20240618T080000
DTEND;TZID=America/El_Salvador:20240618T170000
DTSTAMP:20260425T091334
CREATED:20240102T201214Z
LAST-MODIFIED:20240102T201214Z
UID:19708-1718697600-1718730000@mcpelsalvador.org.sv
SUMMARY:Visita de Campo
DESCRIPTION:
URL:https://mcpelsalvador.org.sv/calendario/visita-de-campo-38/
END:VEVENT
BEGIN:VEVENT
DTSTART;TZID=America/El_Salvador:20240620T080000
DTEND;TZID=America/El_Salvador:20240620T170000
DTSTAMP:20260425T091334
CREATED:20240102T173545Z
LAST-MODIFIED:20240102T173619Z
UID:19640-1718870400-1718902800@mcpelsalvador.org.sv
SUMMARY:Plenaria de Aprobación
DESCRIPTION:
URL:https://mcpelsalvador.org.sv/calendario/plenaria-de-aprobacion-31/
END:VEVENT
BEGIN:VEVENT
DTSTART;TZID=America/El_Salvador:20240627T080000
DTEND;TZID=America/El_Salvador:20240627T170000
DTSTAMP:20260425T091334
CREATED:20240102T202135Z
LAST-MODIFIED:20240102T202135Z
UID:19728-1719475200-1719507600@mcpelsalvador.org.sv
SUMMARY:Fortalecimiento a miembros en MLC
DESCRIPTION:
URL:https://mcpelsalvador.org.sv/calendario/fortalecimiento-a-miembros-en-mlc/
END:VEVENT
BEGIN:VEVENT
DTSTART;TZID=America/El_Salvador:20240630T080000
DTEND;TZID=America/El_Salvador:20240630T170000
DTSTAMP:20260425T091334
CREATED:20240102T202527Z
LAST-MODIFIED:20240102T202527Z
UID:19736-1719734400-1719766800@mcpelsalvador.org.sv
SUMMARY:Boletín informativo semestral
DESCRIPTION:
URL:https://mcpelsalvador.org.sv/calendario/boletin-informativo-semestral/
END:VEVENT
BEGIN:VEVENT
DTSTART;TZID=America/El_Salvador:20240704T080000
DTEND;TZID=America/El_Salvador:20240704T170000
DTSTAMP:20260425T091334
CREATED:20240102T200849Z
LAST-MODIFIED:20240102T200849Z
UID:19696-1720080000-1720112400@mcpelsalvador.org.sv
SUMMARY:Comité de Propuestas
DESCRIPTION:
URL:https://mcpelsalvador.org.sv/calendario/comite-de-propuestas-18/
END:VEVENT
BEGIN:VEVENT
DTSTART;TZID=America/El_Salvador:20240704T093000
DTEND;TZID=America/El_Salvador:20240704T130000
DTSTAMP:20260425T091334
CREATED:20240701T214517Z
LAST-MODIFIED:20240701T214517Z
UID:20973-1720085400-1720098000@mcpelsalvador.org.sv
SUMMARY:Reunión Plenaria
DESCRIPTION:
URL:https://mcpelsalvador.org.sv/calendario/reunion-plenaria-2/
END:VEVENT
BEGIN:VEVENT
DTSTART;TZID=America/El_Salvador:20240718T080000
DTEND;TZID=America/El_Salvador:20240718T170000
DTSTAMP:20260425T091334
CREATED:20240102T175300Z
LAST-MODIFIED:20240102T175300Z
UID:19674-1721289600-1721322000@mcpelsalvador.org.sv
SUMMARY:Comité Conjunto
DESCRIPTION:
URL:https://mcpelsalvador.org.sv/calendario/comite-conjunto-12/
END:VEVENT
BEGIN:VEVENT
DTSTART;TZID=America/El_Salvador:20240725T080000
DTEND;TZID=America/El_Salvador:20240725T170000
DTSTAMP:20260425T091334
CREATED:20240102T174124Z
LAST-MODIFIED:20240102T174124Z
UID:19654-1721894400-1721926800@mcpelsalvador.org.sv
SUMMARY:Plenaria de Supervisión
DESCRIPTION:
URL:https://mcpelsalvador.org.sv/calendario/plenaria-de-supervision-30/
END:VEVENT
BEGIN:VEVENT
DTSTART;TZID=America/El_Salvador:20240808T080000
DTEND;TZID=America/El_Salvador:20240808T170000
DTSTAMP:20260425T091334
CREATED:20240102T200911Z
LAST-MODIFIED:20240102T200911Z
UID:19698-1723104000-1723136400@mcpelsalvador.org.sv
SUMMARY:Comité de Propuestas
DESCRIPTION:
URL:https://mcpelsalvador.org.sv/calendario/comite-de-propuestas-19/
END:VEVENT
BEGIN:VEVENT
DTSTART;TZID=America/El_Salvador:20240814T080000
DTEND;TZID=America/El_Salvador:20240814T170000
DTSTAMP:20260425T091334
CREATED:20240102T175413Z
LAST-MODIFIED:20240102T175413Z
UID:19680-1723622400-1723654800@mcpelsalvador.org.sv
SUMMARY:Comité de Monitoreo
DESCRIPTION:
URL:https://mcpelsalvador.org.sv/calendario/comite-de-monitoreo-18/
END:VEVENT
END:VCALENDAR