BEGIN:VCALENDAR
VERSION:2.0
PRODID:-//MCP El Salvador - ECPv6.15.20//NONSGML v1.0//EN
CALSCALE:GREGORIAN
METHOD:PUBLISH
X-ORIGINAL-URL:https://mcpelsalvador.org.sv
X-WR-CALDESC:Eventos para MCP El Salvador
REFRESH-INTERVAL;VALUE=DURATION:PT1H
X-Robots-Tag:noindex
X-PUBLISHED-TTL:PT1H
BEGIN:VTIMEZONE
TZID:America/El_Salvador
BEGIN:STANDARD
TZOFFSETFROM:-0600
TZOFFSETTO:-0600
TZNAME:CST
DTSTART:20250101T000000
END:STANDARD
END:VTIMEZONE
BEGIN:VEVENT
DTSTART;TZID=America/El_Salvador:20260326T080000
DTEND;TZID=America/El_Salvador:20260326T113000
DTSTAMP:20260423T155252
CREATED:20260323T175620Z
LAST-MODIFIED:20260323T175620Z
UID:23224-1774512000-1774524600@mcpelsalvador.org.sv
SUMMARY:Reunión ME02-2026
DESCRIPTION:
URL:https://mcpelsalvador.org.sv/calendario/reunion-me02-2026/
END:VEVENT
END:VCALENDAR