BEGIN:VCALENDAR
VERSION:2.0
PRODID:-//MCP El Salvador - ECPv6.15.20//NONSGML v1.0//EN
CALSCALE:GREGORIAN
METHOD:PUBLISH
X-WR-CALNAME:MCP El Salvador
X-ORIGINAL-URL:https://mcpelsalvador.org.sv
X-WR-CALDESC:Eventos para MCP El Salvador
REFRESH-INTERVAL;VALUE=DURATION:PT1H
X-Robots-Tag:noindex
X-PUBLISHED-TTL:PT1H
BEGIN:VTIMEZONE
TZID:America/El_Salvador
BEGIN:STANDARD
TZOFFSETFROM:-0600
TZOFFSETTO:-0600
TZNAME:CST
DTSTART:20210101T000000
END:STANDARD
END:VTIMEZONE
BEGIN:VEVENT
DTSTART;TZID=America/El_Salvador:20230608T083000
DTEND;TZID=America/El_Salvador:20230608T123000
DTSTAMP:20260425T050647
CREATED:20230608T180132Z
LAST-MODIFIED:20230608T180132Z
UID:19095-1686213000-1686227400@mcpelsalvador.org.sv
SUMMARY:Análisis de Información Estratégica
DESCRIPTION:
URL:https://mcpelsalvador.org.sv/calendario/analisis-de-informacion-estrategica/
END:VEVENT
BEGIN:VEVENT
DTSTART;TZID=America/El_Salvador:20230601T093000
DTEND;TZID=America/El_Salvador:20230601T113000
DTSTAMP:20260425T050647
CREATED:20230531T201730Z
LAST-MODIFIED:20230531T201808Z
UID:19018-1685611800-1685619000@mcpelsalvador.org.sv
SUMMARY:Reunión Plenaria ME 05
DESCRIPTION:
URL:https://mcpelsalvador.org.sv/calendario/reunion-plenaria-me-05/
END:VEVENT
BEGIN:VEVENT
DTSTART;TZID=America/El_Salvador:20230531T083000
DTEND;TZID=America/El_Salvador:20230531T123000
DTSTAMP:20260425T050647
CREATED:20230529T194757Z
LAST-MODIFIED:20230529T194757Z
UID:18995-1685521800-1685536200@mcpelsalvador.org.sv
SUMMARY:Comité Ejecutivo Ampliado 04-2023
DESCRIPTION:
URL:https://mcpelsalvador.org.sv/calendario/comite-ejecutivo-ampliado-04-2023/
END:VEVENT
BEGIN:VEVENT
DTSTART;TZID=America/El_Salvador:20230525T080000
DTEND;TZID=America/El_Salvador:20230525T170000
DTSTAMP:20260425T050647
CREATED:20230103T154747Z
LAST-MODIFIED:20230103T154747Z
UID:18202-1685001600-1685034000@mcpelsalvador.org.sv
SUMMARY:Visita de Campo
DESCRIPTION:
URL:https://mcpelsalvador.org.sv/calendario/visita-de-campo-31/
END:VEVENT
BEGIN:VEVENT
DTSTART;TZID=America/El_Salvador:20230518T090000
DTEND;TZID=America/El_Salvador:20230518T123000
DTSTAMP:20260425T050647
CREATED:20230103T152550Z
LAST-MODIFIED:20230517T001247Z
UID:18152-1684400400-1684413000@mcpelsalvador.org.sv
SUMMARY:Plenaria de Supervisión
DESCRIPTION:
URL:https://mcpelsalvador.org.sv/calendario/plenaria-de-supervision-23/
END:VEVENT
BEGIN:VEVENT
DTSTART;TZID=America/El_Salvador:20230517T080000
DTEND;TZID=America/El_Salvador:20230517T170000
DTSTAMP:20260425T050647
CREATED:20230103T160054Z
LAST-MODIFIED:20230103T160054Z
UID:18216-1684310400-1684342800@mcpelsalvador.org.sv
SUMMARY:Taller de Fortalecimiento de Miembros
DESCRIPTION:
URL:https://mcpelsalvador.org.sv/calendario/taller-de-fortalecimiento-de-miembros-3/
END:VEVENT
BEGIN:VEVENT
DTSTART;TZID=America/El_Salvador:20230511T090000
DTEND;TZID=America/El_Salvador:20230511T110000
DTSTAMP:20260425T050647
CREATED:20230510T012400Z
LAST-MODIFIED:20230510T012400Z
UID:18940-1683795600-1683802800@mcpelsalvador.org.sv
SUMMARY:Reunión ME04-2023  extraordinaria
DESCRIPTION:
URL:https://mcpelsalvador.org.sv/calendario/reunion-me04-2023-extraordinaria/
END:VEVENT
BEGIN:VEVENT
DTSTART;TZID=America/El_Salvador:20230511T080000
DTEND;TZID=America/El_Salvador:20230511T170000
DTSTAMP:20260425T050647
CREATED:20230103T153015Z
LAST-MODIFIED:20230103T153015Z
UID:18164-1683792000-1683824400@mcpelsalvador.org.sv
SUMMARY:Comité Ejecutivo Ampliado
DESCRIPTION:
URL:https://mcpelsalvador.org.sv/calendario/comite-ejecutivo-ampliado-19/
END:VEVENT
BEGIN:VEVENT
DTSTART;TZID=America/El_Salvador:20230504T080000
DTEND;TZID=America/El_Salvador:20230504T170000
DTSTAMP:20260425T050647
CREATED:20230103T154032Z
LAST-MODIFIED:20230103T154032Z
UID:18182-1683187200-1683219600@mcpelsalvador.org.sv
SUMMARY:Comité de Monitoreo
DESCRIPTION:
URL:https://mcpelsalvador.org.sv/calendario/comite-de-monitoreo-13/
END:VEVENT
BEGIN:VEVENT
DTSTART;TZID=America/El_Salvador:20230427T080000
DTEND;TZID=America/El_Salvador:20230427T170000
DTSTAMP:20260425T050647
CREATED:20230103T154238Z
LAST-MODIFIED:20230103T154238Z
UID:18190-1682582400-1682614800@mcpelsalvador.org.sv
SUMMARY:Comité de Propuestas
DESCRIPTION:
URL:https://mcpelsalvador.org.sv/calendario/comite-de-propuestas-9/
END:VEVENT
BEGIN:VEVENT
DTSTART;TZID=America/El_Salvador:20230426T080000
DTEND;TZID=America/El_Salvador:20230426T170000
DTSTAMP:20260425T050647
CREATED:20230103T154719Z
LAST-MODIFIED:20230103T154719Z
UID:18200-1682496000-1682528400@mcpelsalvador.org.sv
SUMMARY:Visita de Campo
DESCRIPTION:
URL:https://mcpelsalvador.org.sv/calendario/visita-de-campo-30/
END:VEVENT
BEGIN:VEVENT
DTSTART;TZID=America/El_Salvador:20230420T080000
DTEND;TZID=America/El_Salvador:20230420T170000
DTSTAMP:20260425T050647
CREATED:20230103T160209Z
LAST-MODIFIED:20230103T160209Z
UID:18220-1681977600-1682010000@mcpelsalvador.org.sv
SUMMARY:Presentación de Tableros de Mando
DESCRIPTION:
URL:https://mcpelsalvador.org.sv/calendario/presentacion-de-tableros-de-mando-12/
END:VEVENT
BEGIN:VEVENT
DTSTART;TZID=America/El_Salvador:20230420T080000
DTEND;TZID=America/El_Salvador:20230420T123000
DTSTAMP:20260425T050647
CREATED:20230103T152008Z
LAST-MODIFIED:20230419T202422Z
UID:18138-1681977600-1681993800@mcpelsalvador.org.sv
SUMMARY:Plenaria de Aprobación
DESCRIPTION:
URL:https://mcpelsalvador.org.sv/calendario/plenaria-de-aprobacion-24/
END:VEVENT
BEGIN:VEVENT
DTSTART;TZID=America/El_Salvador:20230413T080000
DTEND;TZID=America/El_Salvador:20230413T170000
DTSTAMP:20260425T050647
CREATED:20230103T160843Z
LAST-MODIFIED:20230103T160843Z
UID:18234-1681372800-1681405200@mcpelsalvador.org.sv
SUMMARY:Seguimiento a CCM Evolution
DESCRIPTION:
URL:https://mcpelsalvador.org.sv/calendario/seguimiento-a-ccm-evolution-7/
END:VEVENT
BEGIN:VEVENT
DTSTART;TZID=America/El_Salvador:20230413T080000
DTEND;TZID=America/El_Salvador:20230413T170000
DTSTAMP:20260425T050647
CREATED:20230103T152940Z
LAST-MODIFIED:20230103T152940Z
UID:18162-1681372800-1681405200@mcpelsalvador.org.sv
SUMMARY:Comité Ejecutivo Ampliado
DESCRIPTION:
URL:https://mcpelsalvador.org.sv/calendario/comite-ejecutivo-ampliado-18/
END:VEVENT
BEGIN:VEVENT
DTSTART;TZID=America/El_Salvador:20230331T080000
DTEND;TZID=America/El_Salvador:20230331T170000
DTSTAMP:20260425T050647
CREATED:20230103T160416Z
LAST-MODIFIED:20230103T160416Z
UID:18224-1680249600-1680282000@mcpelsalvador.org.sv
SUMMARY:Boletín Informativo trimestral
DESCRIPTION:
URL:https://mcpelsalvador.org.sv/calendario/boletin-informativo-trimestral/
END:VEVENT
BEGIN:VEVENT
DTSTART;TZID=America/El_Salvador:20230323T080000
DTEND;TZID=America/El_Salvador:20230323T170000
DTSTAMP:20260425T050647
CREATED:20230103T152513Z
LAST-MODIFIED:20230103T152513Z
UID:18150-1679558400-1679590800@mcpelsalvador.org.sv
SUMMARY:Plenaria de Supervisión
DESCRIPTION:
URL:https://mcpelsalvador.org.sv/calendario/plenaria-de-supervision-22/
END:VEVENT
BEGIN:VEVENT
DTSTART;TZID=America/El_Salvador:20230321T080000
DTEND;TZID=America/El_Salvador:20230321T170000
DTSTAMP:20260425T050647
CREATED:20230103T154700Z
LAST-MODIFIED:20230103T154700Z
UID:18198-1679385600-1679418000@mcpelsalvador.org.sv
SUMMARY:Visita de Campo
DESCRIPTION:
URL:https://mcpelsalvador.org.sv/calendario/visita-de-campo-29/
END:VEVENT
BEGIN:VEVENT
DTSTART;TZID=America/El_Salvador:20230316T080000
DTEND;TZID=America/El_Salvador:20230316T170000
DTSTAMP:20260425T050647
CREATED:20230103T153317Z
LAST-MODIFIED:20230103T153317Z
UID:18174-1678953600-1678986000@mcpelsalvador.org.sv
SUMMARY:Comité Conjunto
DESCRIPTION:
URL:https://mcpelsalvador.org.sv/calendario/comite-conjunto-7/
END:VEVENT
BEGIN:VEVENT
DTSTART;TZID=America/El_Salvador:20230224T080000
DTEND;TZID=America/El_Salvador:20230224T123000
DTSTAMP:20260425T050647
CREATED:20230222T220325Z
LAST-MODIFIED:20230222T220325Z
UID:18591-1677225600-1677241800@mcpelsalvador.org.sv
SUMMARY:Taller Prueba Piloto tableros de mando MCP-ES
DESCRIPTION:
URL:https://mcpelsalvador.org.sv/calendario/taller-prueba-piloto-tableros-de-mando-mcp-es/
END:VEVENT
BEGIN:VEVENT
DTSTART;TZID=America/El_Salvador:20230223T080000
DTEND;TZID=America/El_Salvador:20230223T170000
DTSTAMP:20260425T050647
CREATED:20230103T151924Z
LAST-MODIFIED:20230222T211513Z
UID:18136-1677139200-1677171600@mcpelsalvador.org.sv
SUMMARY:Plenaria de Aprobación
DESCRIPTION:
URL:https://mcpelsalvador.org.sv/calendario/plenaria-de-aprobacion-23/
END:VEVENT
BEGIN:VEVENT
DTSTART;TZID=America/El_Salvador:20230216T080000
DTEND;TZID=America/El_Salvador:20230216T170000
DTSTAMP:20260425T050647
CREATED:20230103T152911Z
LAST-MODIFIED:20230103T152911Z
UID:18160-1676534400-1676566800@mcpelsalvador.org.sv
SUMMARY:Comité Ejecutivo Ampliado
DESCRIPTION:
URL:https://mcpelsalvador.org.sv/calendario/comite-ejecutivo-ampliado-17/
END:VEVENT
BEGIN:VEVENT
DTSTART;TZID=America/El_Salvador:20230216T080000
DTEND;TZID=America/El_Salvador:20230216T113000
DTSTAMP:20260425T050647
CREATED:20230222T212552Z
LAST-MODIFIED:20230222T212552Z
UID:18583-1676534400-1676547000@mcpelsalvador.org.sv
SUMMARY:Reunión Plenaria sesión extraordinaria
DESCRIPTION:
URL:https://mcpelsalvador.org.sv/calendario/reunion-plenaria-sesion-extraordinaria-2/
END:VEVENT
BEGIN:VEVENT
DTSTART;TZID=America/El_Salvador:20230214T080000
DTEND;TZID=America/El_Salvador:20230214T170000
DTSTAMP:20260425T050647
CREATED:20230103T153453Z
LAST-MODIFIED:20230103T153453Z
UID:18180-1676361600-1676394000@mcpelsalvador.org.sv
SUMMARY:Comité de Monitoreo
DESCRIPTION:
URL:https://mcpelsalvador.org.sv/calendario/comite-de-monitoreo-12/
END:VEVENT
BEGIN:VEVENT
DTSTART;TZID=America/El_Salvador:20230213T090000
DTEND;TZID=America/El_Salvador:20230213T103000
DTSTAMP:20260425T050647
CREATED:20230222T220007Z
LAST-MODIFIED:20230222T220059Z
UID:18586-1676278800-1676284200@mcpelsalvador.org.sv
SUMMARY:COMITÉ EJECUTIVO AMPLIADO
DESCRIPTION:
URL:https://mcpelsalvador.org.sv/calendario/comite-ejecutivo-ampliado-24/
END:VEVENT
BEGIN:VEVENT
DTSTART;TZID=America/El_Salvador:20230208T080000
DTEND;TZID=America/El_Salvador:20230208T170000
DTSTAMP:20260425T050647
CREATED:20230103T154628Z
LAST-MODIFIED:20230103T154628Z
UID:18196-1675843200-1675875600@mcpelsalvador.org.sv
SUMMARY:Visita de Campo
DESCRIPTION:
URL:https://mcpelsalvador.org.sv/calendario/visita-de-campo-28/
END:VEVENT
BEGIN:VEVENT
DTSTART;TZID=America/El_Salvador:20230202T090000
DTEND;TZID=America/El_Salvador:20230202T123000
DTSTAMP:20260425T050647
CREATED:20230125T150853Z
LAST-MODIFIED:20230125T150853Z
UID:18403-1675328400-1675341000@mcpelsalvador.org.sv
SUMMARY:Plenaria de Monitoreo
DESCRIPTION:
URL:https://mcpelsalvador.org.sv/calendario/plenaria-de-monitoreo/
END:VEVENT
BEGIN:VEVENT
DTSTART;TZID=America/El_Salvador:20230126T080000
DTEND;TZID=America/El_Salvador:20230126T170000
DTSTAMP:20260425T050647
CREATED:20230103T152447Z
LAST-MODIFIED:20230125T150525Z
UID:18148-1674720000-1674752400@mcpelsalvador.org.sv
SUMMARY:Plenaria de Supervisión
DESCRIPTION:
URL:https://mcpelsalvador.org.sv/calendario/plenaria-de-supervision-21/
END:VEVENT
BEGIN:VEVENT
DTSTART;TZID=America/El_Salvador:20230117T080000
DTEND;TZID=America/El_Salvador:20230117T170000
DTSTAMP:20260425T050647
CREATED:20230103T154207Z
LAST-MODIFIED:20230103T154207Z
UID:18188-1673942400-1673974800@mcpelsalvador.org.sv
SUMMARY:Comité de Propuestas
DESCRIPTION:
URL:https://mcpelsalvador.org.sv/calendario/comite-de-propuestas-8/
END:VEVENT
BEGIN:VEVENT
DTSTART;TZID=America/El_Salvador:20221231T080000
DTEND;TZID=America/El_Salvador:20221231T170000
DTSTAMP:20260425T050647
CREATED:20220111T014201Z
LAST-MODIFIED:20220111T014201Z
UID:16445-1672473600-1672506000@mcpelsalvador.org.sv
SUMMARY:Boletines Informativos trimestrales
DESCRIPTION:
URL:https://mcpelsalvador.org.sv/calendario/boletines-informativos-trimestrales-4/
END:VEVENT
END:VCALENDAR