BEGIN:VCALENDAR
VERSION:2.0
PRODID:-//MCP El Salvador - ECPv6.15.20//NONSGML v1.0//EN
CALSCALE:GREGORIAN
METHOD:PUBLISH
X-ORIGINAL-URL:https://mcpelsalvador.org.sv
X-WR-CALDESC:Eventos para MCP El Salvador
REFRESH-INTERVAL;VALUE=DURATION:PT1H
X-Robots-Tag:noindex
X-PUBLISHED-TTL:PT1H
BEGIN:VTIMEZONE
TZID:America/El_Salvador
BEGIN:STANDARD
TZOFFSETFROM:-0600
TZOFFSETTO:-0600
TZNAME:CST
DTSTART:20210101T000000
END:STANDARD
END:VTIMEZONE
BEGIN:VEVENT
DTSTART;TZID=America/El_Salvador:20221208T083000
DTEND;TZID=America/El_Salvador:20221208T123000
DTSTAMP:20260425T102837
CREATED:20220105T224004Z
LAST-MODIFIED:20221207T163639Z
UID:16342-1670488200-1670502600@mcpelsalvador.org.sv
SUMMARY:Plenaria de aprobación
DESCRIPTION:
URL:https://mcpelsalvador.org.sv/calendario/plenaria-de-aprobacion-22/
END:VEVENT
BEGIN:VEVENT
DTSTART;TZID=America/El_Salvador:20221201T080000
DTEND;TZID=America/El_Salvador:20221207T170000
DTSTAMP:20260425T102837
CREATED:20220111T020524Z
LAST-MODIFIED:20220111T020524Z
UID:16449-1669881600-1670432400@mcpelsalvador.org.sv
SUMMARY:Actividades en el marco celebración del 1 de Diciembre
DESCRIPTION:
URL:https://mcpelsalvador.org.sv/calendario/actividades-en-el-marco-celebracion-del-1-de-diciembre/
END:VEVENT
BEGIN:VEVENT
DTSTART;TZID=America/El_Salvador:20221124T080000
DTEND;TZID=America/El_Salvador:20221124T170000
DTSTAMP:20260425T102837
CREATED:20220105T233818Z
LAST-MODIFIED:20220105T233818Z
UID:16354-1669276800-1669309200@mcpelsalvador.org.sv
SUMMARY:Plenaria de supervisión
DESCRIPTION:
URL:https://mcpelsalvador.org.sv/calendario/plenaria-de-supervision-20/
END:VEVENT
BEGIN:VEVENT
DTSTART;TZID=America/El_Salvador:20221123T080000
DTEND;TZID=America/El_Salvador:20221123T170000
DTSTAMP:20260425T102837
CREATED:20220111T014248Z
LAST-MODIFIED:20220111T014248Z
UID:16447-1669190400-1669222800@mcpelsalvador.org.sv
SUMMARY:Retiro anual
DESCRIPTION:
URL:https://mcpelsalvador.org.sv/calendario/retiro-anual-3/
END:VEVENT
BEGIN:VEVENT
DTSTART;TZID=America/El_Salvador:20221118T150000
DTEND;TZID=America/El_Salvador:20221118T163000
DTSTAMP:20260425T102837
CREATED:20221115T143813Z
LAST-MODIFIED:20221115T143813Z
UID:18017-1668783600-1668789000@mcpelsalvador.org.sv
SUMMARY:Comité Conjunto Sesión Extraordinaria
DESCRIPTION:
URL:https://mcpelsalvador.org.sv/calendario/comite-conjunto-sesion-extraordinaria/
END:VEVENT
BEGIN:VEVENT
DTSTART;TZID=America/El_Salvador:20221117T080000
DTEND;TZID=America/El_Salvador:20221117T170000
DTSTAMP:20260425T102837
CREATED:20220105T235148Z
LAST-MODIFIED:20221115T222105Z
UID:16368-1668672000-1668704400@mcpelsalvador.org.sv
SUMMARY:Comité Ejecutivo ampliado
DESCRIPTION:
URL:https://mcpelsalvador.org.sv/calendario/comite-ejecutivo-ampliado-12/
END:VEVENT
BEGIN:VEVENT
DTSTART;TZID=America/El_Salvador:20221116T090000
DTEND;TZID=America/El_Salvador:20221116T113000
DTSTAMP:20260425T102837
CREATED:20221118T155058Z
LAST-MODIFIED:20221118T155058Z
UID:18024-1668589200-1668598200@mcpelsalvador.org.sv
SUMMARY:Visita de Campo
DESCRIPTION:
URL:https://mcpelsalvador.org.sv/calendario/visita-de-campo-27/
END:VEVENT
BEGIN:VEVENT
DTSTART;TZID=America/El_Salvador:20221115T080000
DTEND;TZID=America/El_Salvador:20221115T170000
DTSTAMP:20260425T102837
CREATED:20220111T002420Z
LAST-MODIFIED:20220111T002420Z
UID:16397-1668499200-1668531600@mcpelsalvador.org.sv
SUMMARY:Comité de Monitoreo
DESCRIPTION:
URL:https://mcpelsalvador.org.sv/calendario/comite-de-monitoreo-11/
END:VEVENT
BEGIN:VEVENT
DTSTART;TZID=America/El_Salvador:20221111T090000
DTEND;TZID=America/El_Salvador:20221111T110000
DTSTAMP:20260425T102837
CREATED:20221124T163846Z
LAST-MODIFIED:20221124T163916Z
UID:18032-1668157200-1668164400@mcpelsalvador.org.sv
SUMMARY:Visita de Campo
DESCRIPTION:
URL:https://mcpelsalvador.org.sv/calendario/visita-de-campo-07-2022/
END:VEVENT
BEGIN:VEVENT
DTSTART;TZID=America/El_Salvador:20221027T090000
DTEND;TZID=America/El_Salvador:20221027T123000
DTSTAMP:20260425T102837
CREATED:20220105T223940Z
LAST-MODIFIED:20221025T153010Z
UID:16340-1666861200-1666873800@mcpelsalvador.org.sv
SUMMARY:Plenaria de aprobación
DESCRIPTION:
URL:https://mcpelsalvador.org.sv/calendario/plenaria-de-aprobacion-21/
END:VEVENT
BEGIN:VEVENT
DTSTART;TZID=America/El_Salvador:20221020T080000
DTEND;TZID=America/El_Salvador:20221020T170000
DTSTAMP:20260425T102837
CREATED:20220105T235115Z
LAST-MODIFIED:20220105T235115Z
UID:16366-1666252800-1666285200@mcpelsalvador.org.sv
SUMMARY:Comité Ejecutivo ampliado
DESCRIPTION:
URL:https://mcpelsalvador.org.sv/calendario/comite-ejecutivo-ampliado-11/
END:VEVENT
BEGIN:VEVENT
DTSTART;TZID=America/El_Salvador:20221019T080000
DTEND;TZID=America/El_Salvador:20221019T170000
DTSTAMP:20260425T102837
CREATED:20220111T022842Z
LAST-MODIFIED:20220111T022842Z
UID:16472-1666166400-1666198800@mcpelsalvador.org.sv
SUMMARY:Seguimiento a CCM Evolution
DESCRIPTION:
URL:https://mcpelsalvador.org.sv/calendario/seguimiento-a-ccm-evolution-6/
END:VEVENT
BEGIN:VEVENT
DTSTART;TZID=America/El_Salvador:20221018T080000
DTEND;TZID=America/El_Salvador:20221018T170000
DTSTAMP:20260425T102837
CREATED:20220111T002347Z
LAST-MODIFIED:20220111T002347Z
UID:16395-1666080000-1666112400@mcpelsalvador.org.sv
SUMMARY:Comité de Monitoreo
DESCRIPTION:
URL:https://mcpelsalvador.org.sv/calendario/comite-de-monitoreo-10/
END:VEVENT
BEGIN:VEVENT
DTSTART;TZID=America/El_Salvador:20221011T080000
DTEND;TZID=America/El_Salvador:20221011T170000
DTSTAMP:20260425T102837
CREATED:20220111T003333Z
LAST-MODIFIED:20220111T003333Z
UID:16414-1665475200-1665507600@mcpelsalvador.org.sv
SUMMARY:Visita de Campo
DESCRIPTION:
URL:https://mcpelsalvador.org.sv/calendario/visita-de-campo-25/
END:VEVENT
BEGIN:VEVENT
DTSTART;TZID=America/El_Salvador:20221006T090000
DTEND;TZID=America/El_Salvador:20221006T110000
DTSTAMP:20260425T102837
CREATED:20221006T222339Z
LAST-MODIFIED:20221006T222339Z
UID:17827-1665046800-1665054000@mcpelsalvador.org.sv
SUMMARY:Reunión Plenaria ME 06-2022
DESCRIPTION:
URL:https://mcpelsalvador.org.sv/calendario/reunion-plenaria-me-06-2022/
END:VEVENT
BEGIN:VEVENT
DTSTART;TZID=America/El_Salvador:20220930T080000
DTEND;TZID=America/El_Salvador:20220930T170000
DTSTAMP:20260425T102837
CREATED:20220111T014124Z
LAST-MODIFIED:20220111T014124Z
UID:16443-1664524800-1664557200@mcpelsalvador.org.sv
SUMMARY:Boletines Informativos trimestrales
DESCRIPTION:
URL:https://mcpelsalvador.org.sv/calendario/boletines-informativos-trimestrales-3/
END:VEVENT
BEGIN:VEVENT
DTSTART;TZID=America/El_Salvador:20220929T090000
DTEND;TZID=America/El_Salvador:20220929T130000
DTSTAMP:20260425T102837
CREATED:20220105T233750Z
LAST-MODIFIED:20221025T152855Z
UID:16352-1664442000-1664456400@mcpelsalvador.org.sv
SUMMARY:Reunión Plenaria ME 05
DESCRIPTION:
URL:https://mcpelsalvador.org.sv/calendario/plenaria-de-supervision-19/
END:VEVENT
BEGIN:VEVENT
DTSTART;TZID=America/El_Salvador:20220928T080000
DTEND;TZID=America/El_Salvador:20220928T170000
DTSTAMP:20260425T102837
CREATED:20220908T164711Z
LAST-MODIFIED:20220929T155307Z
UID:17454-1664352000-1664384400@mcpelsalvador.org.sv
SUMMARY:Segunda Jornada de Inducción a nuevos miembros
DESCRIPTION:
URL:https://mcpelsalvador.org.sv/calendario/segunda-jornada-de-induccion-a-nuevos-miembros/
END:VEVENT
BEGIN:VEVENT
DTSTART;TZID=America/El_Salvador:20220922T090000
DTEND;TZID=America/El_Salvador:20220922T113000
DTSTAMP:20260425T102837
CREATED:20220111T001646Z
LAST-MODIFIED:20220908T164620Z
UID:16375-1663837200-1663846200@mcpelsalvador.org.sv
SUMMARY:Reunión de Comité Conjunto
DESCRIPTION:
URL:https://mcpelsalvador.org.sv/calendario/comite-conjunto-6/
END:VEVENT
BEGIN:VEVENT
DTSTART;TZID=America/El_Salvador:20220920T090000
DTEND;TZID=America/El_Salvador:20220920T113000
DTSTAMP:20260425T102837
CREATED:20220111T002311Z
LAST-MODIFIED:20220908T164209Z
UID:16393-1663664400-1663673400@mcpelsalvador.org.sv
SUMMARY:Reunión de Comité de Monitoreo
DESCRIPTION:
URL:https://mcpelsalvador.org.sv/calendario/comite-de-monitoreo-9/
END:VEVENT
BEGIN:VEVENT
DTSTART;TZID=America/El_Salvador:20220913T080000
DTEND;TZID=America/El_Salvador:20220913T170000
DTSTAMP:20260425T102837
CREATED:20220111T003304Z
LAST-MODIFIED:20220111T003304Z
UID:16412-1663056000-1663088400@mcpelsalvador.org.sv
SUMMARY:Visita de Campo
DESCRIPTION:
URL:https://mcpelsalvador.org.sv/calendario/visita-de-campo-24/
END:VEVENT
BEGIN:VEVENT
DTSTART;TZID=America/El_Salvador:20220908T090000
DTEND;TZID=America/El_Salvador:20220908T103000
DTSTAMP:20260425T102837
CREATED:20220906T000816Z
LAST-MODIFIED:20220906T000816Z
UID:17430-1662627600-1662633000@mcpelsalvador.org.sv
SUMMARY:Comité ejecutivo ampliado reunión extraordinaria
DESCRIPTION:
URL:https://mcpelsalvador.org.sv/calendario/comite-ejecutivo-ampliado-reunion-extraordinaria/
END:VEVENT
BEGIN:VEVENT
DTSTART;TZID=America/El_Salvador:20220908T080000
DTEND;TZID=America/El_Salvador:20220908T170000
DTSTAMP:20260425T102837
CREATED:20220111T004809Z
LAST-MODIFIED:20220908T164055Z
UID:16426-1662624000-1662656400@mcpelsalvador.org.sv
SUMMARY:Taller Virtual de Monitoreo Estratégico para nuevos miembros
DESCRIPTION:
URL:https://mcpelsalvador.org.sv/calendario/fortalecimiento-de-miembros-en-monitoreo-estrategico-2/
END:VEVENT
BEGIN:VEVENT
DTSTART;TZID=America/El_Salvador:20220907T080000
DTEND;TZID=America/El_Salvador:20220907T150000
DTSTAMP:20260425T102837
CREATED:20220908T162105Z
LAST-MODIFIED:20220908T162105Z
UID:17447-1662537600-1662562800@mcpelsalvador.org.sv
SUMMARY:Actividad Prellenado herramienta SID 2022
DESCRIPTION:
URL:https://mcpelsalvador.org.sv/calendario/actividad-prellenado-herramienta-sid-2022/
END:VEVENT
BEGIN:VEVENT
DTSTART;TZID=America/El_Salvador:20220902T080000
DTEND;TZID=America/El_Salvador:20220902T120000
DTSTAMP:20260425T102837
CREATED:20220908T161715Z
LAST-MODIFIED:20220908T161715Z
UID:17445-1662105600-1662120000@mcpelsalvador.org.sv
SUMMARY:Jornada semestral de Evaluación de Indicadores Programa TB
DESCRIPTION:
URL:https://mcpelsalvador.org.sv/calendario/jornada-semestral-de-evaluacion-de-indicadores-programa-tb/
END:VEVENT
BEGIN:VEVENT
DTSTART;TZID=America/El_Salvador:20220831T083000
DTEND;TZID=America/El_Salvador:20220831T160000
DTSTAMP:20260425T102837
CREATED:20220822T151500Z
LAST-MODIFIED:20220830T212238Z
UID:17407-1661934600-1661961600@mcpelsalvador.org.sv
SUMMARY:Reunión de Comité de Monitoreo y RPS
DESCRIPTION:
URL:https://mcpelsalvador.org.sv/calendario/reunion-de-comite-de-monitoreo-y-rps/
END:VEVENT
BEGIN:VEVENT
DTSTART;TZID=America/El_Salvador:20220830T160000
DTEND;TZID=America/El_Salvador:20220830T173000
DTSTAMP:20260425T102837
CREATED:20220830T211742Z
LAST-MODIFIED:20220830T211742Z
UID:17425-1661875200-1661880600@mcpelsalvador.org.sv
SUMMARY:Reunión Plenaria de Monitoreo
DESCRIPTION:
URL:https://mcpelsalvador.org.sv/calendario/reunion-plenaria-de-monitoreo-2/
END:VEVENT
BEGIN:VEVENT
DTSTART;TZID=America/El_Salvador:20220830T090000
DTEND;TZID=America/El_Salvador:20220830T110000
DTSTAMP:20260425T102837
CREATED:20220822T151426Z
LAST-MODIFIED:20220822T151426Z
UID:17404-1661850000-1661857200@mcpelsalvador.org.sv
SUMMARY:Visita de Campo Proyecto TB MINSAL UCSF Ilobasco
DESCRIPTION:
URL:https://mcpelsalvador.org.sv/calendario/visita-de-campo-proyecto-tb-minsal-ucsf-ilobasco/
END:VEVENT
BEGIN:VEVENT
DTSTART;TZID=America/El_Salvador:20220830T080000
DTEND;TZID=America/El_Salvador:20220830T170000
DTSTAMP:20260425T102837
CREATED:20220111T003140Z
LAST-MODIFIED:20220111T003140Z
UID:16410-1661846400-1661878800@mcpelsalvador.org.sv
SUMMARY:Visita de Campo
DESCRIPTION:
URL:https://mcpelsalvador.org.sv/calendario/visita-de-campo-23/
END:VEVENT
BEGIN:VEVENT
DTSTART;TZID=America/El_Salvador:20220825T083000
DTEND;TZID=America/El_Salvador:20220825T173000
DTSTAMP:20260425T102837
CREATED:20220822T151347Z
LAST-MODIFIED:20220823T163419Z
UID:17402-1661416200-1661448600@mcpelsalvador.org.sv
SUMMARY:Jornada del Programa de Inducción para nuevos miembros
DESCRIPTION:
URL:https://mcpelsalvador.org.sv/calendario/jornada-del-programa-de-induccion-para-nuevos-miembros-2/
END:VEVENT
END:VCALENDAR