BEGIN:VCALENDAR
VERSION:2.0
PRODID:-//MCP El Salvador - ECPv6.15.20//NONSGML v1.0//EN
CALSCALE:GREGORIAN
METHOD:PUBLISH
X-WR-CALNAME:MCP El Salvador
X-ORIGINAL-URL:https://mcpelsalvador.org.sv
X-WR-CALDESC:Eventos para MCP El Salvador
REFRESH-INTERVAL;VALUE=DURATION:PT1H
X-Robots-Tag:noindex
X-PUBLISHED-TTL:PT1H
BEGIN:VTIMEZONE
TZID:America/El_Salvador
BEGIN:STANDARD
TZOFFSETFROM:-0600
TZOFFSETTO:-0600
TZNAME:CST
DTSTART:20240101T000000
END:STANDARD
END:VTIMEZONE
BEGIN:VEVENT
DTSTART;TZID=America/El_Salvador:20251106T080000
DTEND;TZID=America/El_Salvador:20251106T170000
DTSTAMP:20260423T151449
CREATED:20251104T200620Z
LAST-MODIFIED:20251104T200620Z
UID:22710-1762416000-1762448400@mcpelsalvador.org.sv
SUMMARY:Reunión Plenaria 05-2025
DESCRIPTION:
URL:https://mcpelsalvador.org.sv/calendario/reunion-plenaria-05-2025/
END:VEVENT
BEGIN:VEVENT
DTSTART;TZID=America/El_Salvador:20251106T080000
DTEND;TZID=America/El_Salvador:20251106T170000
DTSTAMP:20260423T151449
CREATED:20241210T162425Z
LAST-MODIFIED:20241210T162425Z
UID:21406-1762416000-1762448400@mcpelsalvador.org.sv
SUMMARY:VII Retiro anual
DESCRIPTION:
URL:https://mcpelsalvador.org.sv/calendario/vii-retiro-anual-3/
END:VEVENT
BEGIN:VEVENT
DTSTART;TZID=America/El_Salvador:20251105T080000
DTEND;TZID=America/El_Salvador:20251105T170000
DTSTAMP:20260423T151449
CREATED:20241210T162401Z
LAST-MODIFIED:20241210T162401Z
UID:21404-1762329600-1762362000@mcpelsalvador.org.sv
SUMMARY:VII Retiro anual
DESCRIPTION:
URL:https://mcpelsalvador.org.sv/calendario/vii-retiro-anual-2/
END:VEVENT
BEGIN:VEVENT
DTSTART;TZID=America/El_Salvador:20251030T080000
DTEND;TZID=America/El_Salvador:20251030T170000
DTSTAMP:20260423T151449
CREATED:20241210T162336Z
LAST-MODIFIED:20241210T162336Z
UID:21402-1761811200-1761843600@mcpelsalvador.org.sv
SUMMARY:Fortalecimiento a miembros en MLC
DESCRIPTION:
URL:https://mcpelsalvador.org.sv/calendario/fortalecimiento-a-miembros-en-mlc-3/
END:VEVENT
BEGIN:VEVENT
DTSTART;TZID=America/El_Salvador:20251023T080000
DTEND;TZID=America/El_Salvador:20251023T170000
DTSTAMP:20260423T151449
CREATED:20241210T160846Z
LAST-MODIFIED:20251017T144327Z
UID:21346-1761206400-1761238800@mcpelsalvador.org.sv
SUMMARY:Plenaria de aprobación
DESCRIPTION:
URL:https://mcpelsalvador.org.sv/calendario/plenaria-de-aprobacion-37/
END:VEVENT
BEGIN:VEVENT
DTSTART;TZID=America/El_Salvador:20251016T080000
DTEND;TZID=America/El_Salvador:20251016T170000
DTSTAMP:20260423T151449
CREATED:20241210T161126Z
LAST-MODIFIED:20241210T161126Z
UID:21357-1760601600-1760634000@mcpelsalvador.org.sv
SUMMARY:Comité Ejecutivo ampliado
DESCRIPTION:
URL:https://mcpelsalvador.org.sv/calendario/comite-ejecutivo-ampliado-33/
END:VEVENT
BEGIN:VEVENT
DTSTART;TZID=America/El_Salvador:20251009T080000
DTEND;TZID=America/El_Salvador:20251009T170000
DTSTAMP:20260423T151449
CREATED:20241210T161338Z
LAST-MODIFIED:20241210T161338Z
UID:21366-1759996800-1760029200@mcpelsalvador.org.sv
SUMMARY:Comité Conjunto
DESCRIPTION:
URL:https://mcpelsalvador.org.sv/calendario/comite-conjunto-15/
END:VEVENT
BEGIN:VEVENT
DTSTART;TZID=America/El_Salvador:20250925T080000
DTEND;TZID=America/El_Salvador:20250925T170000
DTSTAMP:20260423T151449
CREATED:20241210T162309Z
LAST-MODIFIED:20241210T162309Z
UID:21399-1758787200-1758819600@mcpelsalvador.org.sv
SUMMARY:Fortalecimiento a miembros en Monitoreo Estratégico
DESCRIPTION:
URL:https://mcpelsalvador.org.sv/calendario/fortalecimiento-a-miembros-en-monitoreo-estrategico/
END:VEVENT
BEGIN:VEVENT
DTSTART;TZID=America/El_Salvador:20250918T080000
DTEND;TZID=America/El_Salvador:20250918T170000
DTSTAMP:20260423T151449
CREATED:20241210T160605Z
LAST-MODIFIED:20241210T160605Z
UID:21337-1758182400-1758214800@mcpelsalvador.org.sv
SUMMARY:Tablero de mando proyectos de país FM
DESCRIPTION:
URL:https://mcpelsalvador.org.sv/calendario/tablero-de-mando-proyectos-de-pais-fm-2/
END:VEVENT
BEGIN:VEVENT
DTSTART;TZID=America/El_Salvador:20250918T080000
DTEND;TZID=America/El_Salvador:20250918T170000
DTSTAMP:20260423T151449
CREATED:20241210T153633Z
LAST-MODIFIED:20250909T160707Z
UID:21333-1758182400-1758214800@mcpelsalvador.org.sv
SUMMARY:Plenaria de Supervisión
DESCRIPTION:
URL:https://mcpelsalvador.org.sv/calendario/plenaria-de-supervision-37/
END:VEVENT
BEGIN:VEVENT
DTSTART;TZID=America/El_Salvador:20250911T080000
DTEND;TZID=America/El_Salvador:20250911T170000
DTSTAMP:20260423T151449
CREATED:20241210T161510Z
LAST-MODIFIED:20241210T161510Z
UID:21373-1757577600-1757610000@mcpelsalvador.org.sv
SUMMARY:Comité de Monitoreo
DESCRIPTION:
URL:https://mcpelsalvador.org.sv/calendario/comite-de-monitoreo-22/
END:VEVENT
BEGIN:VEVENT
DTSTART;TZID=America/El_Salvador:20250828T080000
DTEND;TZID=America/El_Salvador:20250828T170000
DTSTAMP:20260423T151449
CREATED:20241210T162241Z
LAST-MODIFIED:20241210T162241Z
UID:21397-1756368000-1756400400@mcpelsalvador.org.sv
SUMMARY:Programa de Induccion a nuevos miembros
DESCRIPTION:
URL:https://mcpelsalvador.org.sv/calendario/programa-de-induccion-a-nuevos-miembros-2/
END:VEVENT
BEGIN:VEVENT
DTSTART;TZID=America/El_Salvador:20250827T080000
DTEND;TZID=America/El_Salvador:20250827T170000
DTSTAMP:20260423T151449
CREATED:20241210T162219Z
LAST-MODIFIED:20241210T162219Z
UID:21395-1756281600-1756314000@mcpelsalvador.org.sv
SUMMARY:Programa de Induccion a nuevos miembros
DESCRIPTION:
URL:https://mcpelsalvador.org.sv/calendario/programa-de-induccion-a-nuevos-miembros/
END:VEVENT
BEGIN:VEVENT
DTSTART;TZID=America/El_Salvador:20250821T080000
DTEND;TZID=America/El_Salvador:20250821T170000
DTSTAMP:20260423T151449
CREATED:20241210T161107Z
LAST-MODIFIED:20241210T161107Z
UID:21354-1755763200-1755795600@mcpelsalvador.org.sv
SUMMARY:Comité Ejecutivo ampliado
DESCRIPTION:
URL:https://mcpelsalvador.org.sv/calendario/comite-ejecutivo-ampliado-32/
END:VEVENT
BEGIN:VEVENT
DTSTART;TZID=America/El_Salvador:20250724T080000
DTEND;TZID=America/El_Salvador:20250724T170000
DTSTAMP:20260423T151449
CREATED:20241210T153553Z
LAST-MODIFIED:20241210T153605Z
UID:21331-1753344000-1753376400@mcpelsalvador.org.sv
SUMMARY:Plenaria de Supervisión
DESCRIPTION:
URL:https://mcpelsalvador.org.sv/calendario/plenaria-de-supervision-36/
END:VEVENT
BEGIN:VEVENT
DTSTART;TZID=America/El_Salvador:20250717T080000
DTEND;TZID=America/El_Salvador:20250717T170000
DTSTAMP:20260423T151449
CREATED:20241210T161429Z
LAST-MODIFIED:20241210T161429Z
UID:21370-1752739200-1752771600@mcpelsalvador.org.sv
SUMMARY:Comité de Monitoreo
DESCRIPTION:
URL:https://mcpelsalvador.org.sv/calendario/comite-de-monitoreo-21/
END:VEVENT
BEGIN:VEVENT
DTSTART;TZID=America/El_Salvador:20250626T080000
DTEND;TZID=America/El_Salvador:20250626T170000
DTSTAMP:20260423T151449
CREATED:20241210T160810Z
LAST-MODIFIED:20241210T160810Z
UID:21344-1750924800-1750957200@mcpelsalvador.org.sv
SUMMARY:Plenaria de aprobación
DESCRIPTION:
URL:https://mcpelsalvador.org.sv/calendario/plenaria-de-aprobacion-36/
END:VEVENT
BEGIN:VEVENT
DTSTART;TZID=America/El_Salvador:20250624T080000
DTEND;TZID=America/El_Salvador:20250624T170000
DTSTAMP:20260423T151449
CREATED:20241210T162110Z
LAST-MODIFIED:20241210T162110Z
UID:21393-1750752000-1750784400@mcpelsalvador.org.sv
SUMMARY:Elección de Representantes para el periodo 2025-2028
DESCRIPTION:
URL:https://mcpelsalvador.org.sv/calendario/eleccion-de-representantes-para-el-periodo-2025-2028-9/
END:VEVENT
BEGIN:VEVENT
DTSTART;TZID=America/El_Salvador:20250619T080000
DTEND;TZID=America/El_Salvador:20250619T170000
DTSTAMP:20260423T151449
CREATED:20241210T161037Z
LAST-MODIFIED:20241210T161037Z
UID:21352-1750320000-1750352400@mcpelsalvador.org.sv
SUMMARY:Comité Ejecutivo ampliado
DESCRIPTION:
URL:https://mcpelsalvador.org.sv/calendario/comite-ejecutivo-ampliado-31/
END:VEVENT
BEGIN:VEVENT
DTSTART;TZID=America/El_Salvador:20250612T080000
DTEND;TZID=America/El_Salvador:20250612T170000
DTSTAMP:20260423T151449
CREATED:20241210T161311Z
LAST-MODIFIED:20241210T161311Z
UID:21364-1749715200-1749747600@mcpelsalvador.org.sv
SUMMARY:Comité Conjunto
DESCRIPTION:
URL:https://mcpelsalvador.org.sv/calendario/comite-conjunto-14/
END:VEVENT
BEGIN:VEVENT
DTSTART;TZID=America/El_Salvador:20250610T080000
DTEND;TZID=America/El_Salvador:20250610T170000
DTSTAMP:20260423T151449
CREATED:20241210T162054Z
LAST-MODIFIED:20241210T162054Z
UID:21391-1749542400-1749574800@mcpelsalvador.org.sv
SUMMARY:Elección de Representantes para el periodo 2025-2028
DESCRIPTION:
URL:https://mcpelsalvador.org.sv/calendario/eleccion-de-representantes-para-el-periodo-2025-2028-8/
END:VEVENT
BEGIN:VEVENT
DTSTART;TZID=America/El_Salvador:20250603T080000
DTEND;TZID=America/El_Salvador:20250603T170000
DTSTAMP:20260423T151449
CREATED:20241210T162031Z
LAST-MODIFIED:20241210T162031Z
UID:21389-1748937600-1748970000@mcpelsalvador.org.sv
SUMMARY:Elección de Representantes para el periodo 2025-2028
DESCRIPTION:
URL:https://mcpelsalvador.org.sv/calendario/eleccion-de-representantes-para-el-periodo-2025-2028-7/
END:VEVENT
BEGIN:VEVENT
DTSTART;TZID=America/El_Salvador:20250527T080000
DTEND;TZID=America/El_Salvador:20250527T170000
DTSTAMP:20260423T151449
CREATED:20241210T161957Z
LAST-MODIFIED:20241210T161957Z
UID:21387-1748332800-1748365200@mcpelsalvador.org.sv
SUMMARY:Elección de Representantes para el periodo 2025-2028
DESCRIPTION:
URL:https://mcpelsalvador.org.sv/calendario/eleccion-de-representantes-para-el-periodo-2025-2028-6/
END:VEVENT
BEGIN:VEVENT
DTSTART;TZID=America/El_Salvador:20250522T080000
DTEND;TZID=America/El_Salvador:20250522T170000
DTSTAMP:20260423T151449
CREATED:20241210T153526Z
LAST-MODIFIED:20250521T195256Z
UID:21329-1747900800-1747933200@mcpelsalvador.org.sv
SUMMARY:Plenaria de Supervisión
DESCRIPTION:
URL:https://mcpelsalvador.org.sv/calendario/plenaria-de-supervision-35/
END:VEVENT
BEGIN:VEVENT
DTSTART;TZID=America/El_Salvador:20250520T080000
DTEND;TZID=America/El_Salvador:20250520T170000
DTSTAMP:20260423T151449
CREATED:20241210T161940Z
LAST-MODIFIED:20241210T161940Z
UID:21384-1747728000-1747760400@mcpelsalvador.org.sv
SUMMARY:Elección de Representantes para el periodo 2025-2028
DESCRIPTION:
URL:https://mcpelsalvador.org.sv/calendario/eleccion-de-representantes-para-el-periodo-2025-2028-5/
END:VEVENT
BEGIN:VEVENT
DTSTART;TZID=America/El_Salvador:20250513T080000
DTEND;TZID=America/El_Salvador:20250513T170000
DTSTAMP:20260423T151449
CREATED:20241210T161913Z
LAST-MODIFIED:20241210T161913Z
UID:21381-1747123200-1747155600@mcpelsalvador.org.sv
SUMMARY:Elección de Representantes para el periodo 2025-2028
DESCRIPTION:
URL:https://mcpelsalvador.org.sv/calendario/eleccion-de-representantes-para-el-periodo-2025-2028-4/
END:VEVENT
BEGIN:VEVENT
DTSTART;TZID=America/El_Salvador:20250506T080000
DTEND;TZID=America/El_Salvador:20250506T170000
DTSTAMP:20260423T151449
CREATED:20241210T161852Z
LAST-MODIFIED:20241210T161852Z
UID:21379-1746518400-1746550800@mcpelsalvador.org.sv
SUMMARY:Elección de Representantes para el periodo 2025-2028
DESCRIPTION:
URL:https://mcpelsalvador.org.sv/calendario/eleccion-de-representantes-para-el-periodo-2025-2028-3/
END:VEVENT
BEGIN:VEVENT
DTSTART;TZID=America/El_Salvador:20250429T080000
DTEND;TZID=America/El_Salvador:20250429T170000
DTSTAMP:20260423T151449
CREATED:20241210T161745Z
LAST-MODIFIED:20241210T161745Z
UID:21377-1745913600-1745946000@mcpelsalvador.org.sv
SUMMARY:Elección de Representantes para el periodo 2025-2028
DESCRIPTION:
URL:https://mcpelsalvador.org.sv/calendario/eleccion-de-representantes-para-el-periodo-2025-2028-2/
END:VEVENT
BEGIN:VEVENT
DTSTART;TZID=America/El_Salvador:20250424T080000
DTEND;TZID=America/El_Salvador:20250424T170000
DTSTAMP:20260423T151449
CREATED:20241210T160739Z
LAST-MODIFIED:20241210T160739Z
UID:21342-1745481600-1745514000@mcpelsalvador.org.sv
SUMMARY:Plenaria de aprobación
DESCRIPTION:
URL:https://mcpelsalvador.org.sv/calendario/plenaria-de-aprobacion-35/
END:VEVENT
BEGIN:VEVENT
DTSTART;TZID=America/El_Salvador:20250424T080000
DTEND;TZID=America/El_Salvador:20250424T170000
DTSTAMP:20260423T151449
CREATED:20241210T160526Z
LAST-MODIFIED:20241210T160526Z
UID:21335-1745481600-1745514000@mcpelsalvador.org.sv
SUMMARY:Tablero de mando proyectos de país FM
DESCRIPTION:
URL:https://mcpelsalvador.org.sv/calendario/tablero-de-mando-proyectos-de-pais-fm/
END:VEVENT
END:VCALENDAR