BEGIN:VCALENDAR
VERSION:2.0
PRODID:-//MCP El Salvador - ECPv6.15.20//NONSGML v1.0//EN
CALSCALE:GREGORIAN
METHOD:PUBLISH
X-WR-CALNAME:MCP El Salvador
X-ORIGINAL-URL:https://mcpelsalvador.org.sv
X-WR-CALDESC:Eventos para MCP El Salvador
REFRESH-INTERVAL;VALUE=DURATION:PT1H
X-Robots-Tag:noindex
X-PUBLISHED-TTL:PT1H
BEGIN:VTIMEZONE
TZID:America/El_Salvador
BEGIN:STANDARD
TZOFFSETFROM:-0600
TZOFFSETTO:-0600
TZNAME:CST
DTSTART:20210101T000000
END:STANDARD
END:VTIMEZONE
BEGIN:VTIMEZONE
TZID:UTC
BEGIN:STANDARD
TZOFFSETFROM:+0000
TZOFFSETTO:+0000
TZNAME:UTC
DTSTART:20210101T000000
END:STANDARD
END:VTIMEZONE
BEGIN:VEVENT
DTSTART;TZID=America/El_Salvador:20220511T080000
DTEND;TZID=America/El_Salvador:20220511T170000
DTSTAMP:20260425T221949
CREATED:20220111T021536Z
LAST-MODIFIED:20220111T021536Z
UID:16458-1652256000-1652288400@mcpelsalvador.org.sv
SUMMARY:Reunión con autoridades nacionales seguimiento ejecución de fondos C19RM
DESCRIPTION:
URL:https://mcpelsalvador.org.sv/calendario/reunion-con-autoridades-nacionales-seguimiento-ejecucion-de-fondos-c19rm-2/
END:VEVENT
BEGIN:VEVENT
DTSTART;TZID=UTC:20220506T120000
DTEND;TZID=UTC:20220506T140000
DTSTAMP:20260425T221949
CREATED:20220704T231802Z
LAST-MODIFIED:20220704T231802Z
UID:17118-1651838400-1651845600@mcpelsalvador.org.sv
SUMMARY:Comité Ejecutivo Sesión Extraordinaria
DESCRIPTION:
URL:https://mcpelsalvador.org.sv/calendario/comite-ejecutivo-sesion-extraordinaria/
END:VEVENT
BEGIN:VEVENT
DTSTART;TZID=America/El_Salvador:20220428T083000
DTEND;TZID=America/El_Salvador:20220428T123000
DTSTAMP:20260425T221949
CREATED:20220105T223741Z
LAST-MODIFIED:20220425T144923Z
UID:16333-1651134600-1651149000@mcpelsalvador.org.sv
SUMMARY:Plenaria de aprobación
DESCRIPTION:
URL:https://mcpelsalvador.org.sv/calendario/plenaria-de-aprobacion-18/
END:VEVENT
BEGIN:VEVENT
DTSTART;TZID=America/El_Salvador:20220428T080000
DTEND;TZID=America/El_Salvador:20220428T170000
DTSTAMP:20260425T221949
CREATED:20220111T013546Z
LAST-MODIFIED:20220111T013546Z
UID:16433-1651132800-1651165200@mcpelsalvador.org.sv
SUMMARY:Presentación de Tableros de Mando
DESCRIPTION:
URL:https://mcpelsalvador.org.sv/calendario/presentacion-de-tableros-de-mando-10/
END:VEVENT
BEGIN:VEVENT
DTSTART;TZID=UTC:20220427T090000
DTEND;TZID=UTC:20220427T170000
DTSTAMP:20260425T221949
CREATED:20220426T161034Z
LAST-MODIFIED:20220426T161034Z
UID:16828-1651050000-1651078800@mcpelsalvador.org.sv
SUMMARY:Taller de priorización de actores en materia de salud
DESCRIPTION:
URL:https://mcpelsalvador.org.sv/calendario/taller-de-priorizacion-de-actores-en-materia-de-salud/
END:VEVENT
BEGIN:VEVENT
DTSTART;TZID=America/El_Salvador:20220426T080000
DTEND;TZID=America/El_Salvador:20220426T170000
DTSTAMP:20260425T221949
CREATED:20220111T002916Z
LAST-MODIFIED:20220111T002916Z
UID:16404-1650960000-1650992400@mcpelsalvador.org.sv
SUMMARY:Visita de Campo
DESCRIPTION:
URL:https://mcpelsalvador.org.sv/calendario/visita-de-campo-20/
END:VEVENT
BEGIN:VEVENT
DTSTART;TZID=UTC:20220422T090000
DTEND;TZID=UTC:20220422T103000
DTSTAMP:20260425T221949
CREATED:20220704T231352Z
LAST-MODIFIED:20220704T231415Z
UID:17113-1650618000-1650623400@mcpelsalvador.org.sv
SUMMARY:Comité Ejecutivo Ampliado
DESCRIPTION:
URL:https://mcpelsalvador.org.sv/calendario/comite-ejecutivo-ampliado-13/
END:VEVENT
BEGIN:VEVENT
DTSTART;TZID=America/El_Salvador:20220421T080000
DTEND;TZID=America/El_Salvador:20220421T170000
DTSTAMP:20260425T221949
CREATED:20220105T234812Z
LAST-MODIFIED:20220105T234812Z
UID:16358-1650528000-1650560400@mcpelsalvador.org.sv
SUMMARY:Comité Ejecutivo ampliado
DESCRIPTION:
URL:https://mcpelsalvador.org.sv/calendario/comite-ejecutivo-ampliado-7/
END:VEVENT
BEGIN:VEVENT
DTSTART;TZID=America/El_Salvador:20220420T080000
DTEND;TZID=America/El_Salvador:20220420T170000
DTSTAMP:20260425T221949
CREATED:20220111T003629Z
LAST-MODIFIED:20220111T003629Z
UID:16418-1650441600-1650474000@mcpelsalvador.org.sv
SUMMARY:Proceso de selección de representantes de sectores
DESCRIPTION:
URL:https://mcpelsalvador.org.sv/calendario/proceso-de-seleccion-de-representantes-de-sectores/
END:VEVENT
BEGIN:VEVENT
DTSTART;TZID=America/El_Salvador:20220419T080000
DTEND;TZID=America/El_Salvador:20220419T170000
DTSTAMP:20260425T221949
CREATED:20220111T001925Z
LAST-MODIFIED:20220111T001925Z
UID:16383-1650355200-1650387600@mcpelsalvador.org.sv
SUMMARY:Comité de Monitoreo
DESCRIPTION:
URL:https://mcpelsalvador.org.sv/calendario/comite-de-monitoreo-4/
END:VEVENT
BEGIN:VEVENT
DTSTART;TZID=UTC:20220418T083000
DTEND;TZID=UTC:20220418T130000
DTSTAMP:20260425T221949
CREATED:20220704T231101Z
LAST-MODIFIED:20220704T231507Z
UID:17110-1650270600-1650286800@mcpelsalvador.org.sv
SUMMARY:Comité Ejecutivo Sesión Ordinaria
DESCRIPTION:
URL:https://mcpelsalvador.org.sv/calendario/comite-ejecutivo-sesion-ordinaria/
END:VEVENT
BEGIN:VEVENT
DTSTART;TZID=America/El_Salvador:20220331T080000
DTEND;TZID=America/El_Salvador:20220331T170000
DTSTAMP:20260425T221949
CREATED:20220111T014020Z
LAST-MODIFIED:20220111T014020Z
UID:16438-1648713600-1648746000@mcpelsalvador.org.sv
SUMMARY:Boletines Informativos trimestrales
DESCRIPTION:
URL:https://mcpelsalvador.org.sv/calendario/boletines-informativos-trimestrales/
END:VEVENT
BEGIN:VEVENT
DTSTART;TZID=America/El_Salvador:20220331T080000
DTEND;TZID=America/El_Salvador:20220331T123000
DTSTAMP:20260425T221949
CREATED:20220105T233520Z
LAST-MODIFIED:20220325T174233Z
UID:16346-1648713600-1648729800@mcpelsalvador.org.sv
SUMMARY:Plenaria ME 02 2022
DESCRIPTION:
URL:https://mcpelsalvador.org.sv/calendario/plenaria-de-supervision-16/
END:VEVENT
BEGIN:VEVENT
DTSTART;TZID=America/El_Salvador:20220323T080000
DTEND;TZID=America/El_Salvador:20220323T170000
DTSTAMP:20260425T221949
CREATED:20220111T022320Z
LAST-MODIFIED:20220111T022320Z
UID:16460-1648022400-1648054800@mcpelsalvador.org.sv
SUMMARY:Consultas informativas con sectores constituyentes del MCP
DESCRIPTION:
URL:https://mcpelsalvador.org.sv/calendario/consultas-informativas-con-sectores-constituyentes-del-mcp/
END:VEVENT
BEGIN:VEVENT
DTSTART;TZID=America/El_Salvador:20220322T080000
DTEND;TZID=America/El_Salvador:20220322T170000
DTSTAMP:20260425T221949
CREATED:20220111T002843Z
LAST-MODIFIED:20220111T002843Z
UID:16401-1647936000-1647968400@mcpelsalvador.org.sv
SUMMARY:Visita de Campo
DESCRIPTION:
URL:https://mcpelsalvador.org.sv/calendario/visita-de-campo-19/
END:VEVENT
BEGIN:VEVENT
DTSTART;TZID=UTC:20220320T090000
DTEND;TZID=UTC:20220320T120000
DTSTAMP:20260425T221949
CREATED:20220320T225707Z
LAST-MODIFIED:20220320T225707Z
UID:16667-1647766800-1647777600@mcpelsalvador.org.sv
SUMMARY:Comité Ejecutivo
DESCRIPTION:
URL:https://mcpelsalvador.org.sv/calendario/comite-ejecutivo-32/
END:VEVENT
BEGIN:VEVENT
DTSTART;TZID=America/El_Salvador:20220317T080000
DTEND;TZID=America/El_Salvador:20220317T170000
DTSTAMP:20260425T221949
CREATED:20220111T001528Z
LAST-MODIFIED:20220111T001528Z
UID:16371-1647504000-1647536400@mcpelsalvador.org.sv
SUMMARY:Comité Conjunto
DESCRIPTION:
URL:https://mcpelsalvador.org.sv/calendario/comite-conjunto-4/
END:VEVENT
BEGIN:VEVENT
DTSTART;TZID=UTC:20220316T080000
DTEND;TZID=UTC:20220316T110000
DTSTAMP:20260425T221949
CREATED:20220320T225338Z
LAST-MODIFIED:20220320T225359Z
UID:16664-1647417600-1647428400@mcpelsalvador.org.sv
SUMMARY:Visita de Campo
DESCRIPTION:
URL:https://mcpelsalvador.org.sv/calendario/visita-de-campo-26/
END:VEVENT
BEGIN:VEVENT
DTSTART;TZID=America/El_Salvador:20220315T080000
DTEND;TZID=America/El_Salvador:20220315T170000
DTSTAMP:20260425T221949
CREATED:20220111T001850Z
LAST-MODIFIED:20220111T001850Z
UID:16381-1647331200-1647363600@mcpelsalvador.org.sv
SUMMARY:Comité de Monitoreo
DESCRIPTION:
URL:https://mcpelsalvador.org.sv/calendario/comite-de-monitoreo-3/
END:VEVENT
BEGIN:VEVENT
DTSTART;TZID=UTC:20220315T080000
DTEND;TZID=UTC:20220315T140000
DTSTAMP:20260425T221949
CREATED:20220320T224719Z
LAST-MODIFIED:20220320T224739Z
UID:16659-1647331200-1647352800@mcpelsalvador.org.sv
SUMMARY:Lanzamiento de subvenciones 2022-2024
DESCRIPTION:
URL:https://mcpelsalvador.org.sv/calendario/lanzamiento-de-subvenciones-2022-2024/
END:VEVENT
BEGIN:VEVENT
DTSTART;TZID=UTC:20220304T080000
DTEND;TZID=UTC:20220304T170000
DTSTAMP:20260425T221949
CREATED:20220308T162017Z
LAST-MODIFIED:20220308T162032Z
UID:16622-1646380800-1646413200@mcpelsalvador.org.sv
SUMMARY:Reunión Plenaria 02-2022
DESCRIPTION:
URL:https://mcpelsalvador.org.sv/calendario/reunion-plenaria-02-2022/
END:VEVENT
BEGIN:VEVENT
DTSTART;TZID=America/El_Salvador:20220303T080000
DTEND;TZID=America/El_Salvador:20220303T170000
DTSTAMP:20260425T221949
CREATED:20220111T004737Z
LAST-MODIFIED:20220111T004737Z
UID:16424-1646294400-1646326800@mcpelsalvador.org.sv
SUMMARY:Fortalecimiento de miembros en monitoreo estratégico
DESCRIPTION:
URL:https://mcpelsalvador.org.sv/calendario/fortalecimiento-de-miembros-en-monitoreo-estrategico/
END:VEVENT
BEGIN:VEVENT
DTSTART;TZID=America/El_Salvador:20220225T080000
DTEND;TZID=America/El_Salvador:20220225T170000
DTSTAMP:20260425T221949
CREATED:20220111T021454Z
LAST-MODIFIED:20220111T021454Z
UID:16456-1645776000-1645808400@mcpelsalvador.org.sv
SUMMARY:Reunión con autoridades nacionales seguimiento ejecución de fondos C19RM
DESCRIPTION:
URL:https://mcpelsalvador.org.sv/calendario/reunion-con-autoridades-nacionales-seguimiento-ejecucion-de-fondos-c19rm/
END:VEVENT
BEGIN:VEVENT
DTSTART;TZID=America/El_Salvador:20220224T080000
DTEND;TZID=America/El_Salvador:20220224T170000
DTSTAMP:20260425T221949
CREATED:20220105T223543Z
LAST-MODIFIED:20220222T221700Z
UID:16329-1645689600-1645722000@mcpelsalvador.org.sv
SUMMARY:Plenaria de aprobación
DESCRIPTION:
URL:https://mcpelsalvador.org.sv/calendario/plenaria-aprobacion/
END:VEVENT
BEGIN:VEVENT
DTSTART;TZID=America/El_Salvador:20220217T080000
DTEND;TZID=America/El_Salvador:20220217T170000
DTSTAMP:20260425T221949
CREATED:20220105T234037Z
LAST-MODIFIED:20220105T234037Z
UID:16356-1645084800-1645117200@mcpelsalvador.org.sv
SUMMARY:Comité Ejecutivo ampliado
DESCRIPTION:
URL:https://mcpelsalvador.org.sv/calendario/comite-ejecutivo-ampliado-6/
END:VEVENT
BEGIN:VEVENT
DTSTART;TZID=America/El_Salvador:20220215T080000
DTEND;TZID=America/El_Salvador:20220215T170000
DTSTAMP:20260425T221949
CREATED:20220111T001817Z
LAST-MODIFIED:20220111T001817Z
UID:16379-1644912000-1644944400@mcpelsalvador.org.sv
SUMMARY:Comité de Monitoreo
DESCRIPTION:
URL:https://mcpelsalvador.org.sv/calendario/comite-de-monitoreo-2/
END:VEVENT
BEGIN:VEVENT
DTSTART;TZID=America/El_Salvador:20220209T080000
DTEND;TZID=America/El_Salvador:20220209T170000
DTSTAMP:20260425T221949
CREATED:20220111T022524Z
LAST-MODIFIED:20220111T022524Z
UID:16468-1644393600-1644426000@mcpelsalvador.org.sv
SUMMARY:Seguimiento a CCM Evolution
DESCRIPTION:
URL:https://mcpelsalvador.org.sv/calendario/seguimiento-a-ccm-evolution-4/
END:VEVENT
BEGIN:VEVENT
DTSTART;TZID=America/El_Salvador:20220209T080000
DTEND;TZID=America/El_Salvador:20220209T170000
DTSTAMP:20260425T221949
CREATED:20220111T022459Z
LAST-MODIFIED:20220111T022459Z
UID:16466-1644393600-1644426000@mcpelsalvador.org.sv
SUMMARY:Mapeo de actores claves en materia de salud
DESCRIPTION:
URL:https://mcpelsalvador.org.sv/calendario/mapeo-de-actores-claves-en-materia-de-salud-2/
END:VEVENT
BEGIN:VEVENT
DTSTART;TZID=America/El_Salvador:20220208T080000
DTEND;TZID=America/El_Salvador:20220208T170000
DTSTAMP:20260425T221949
CREATED:20220111T002807Z
LAST-MODIFIED:20220111T002807Z
UID:16399-1644307200-1644339600@mcpelsalvador.org.sv
SUMMARY:Visita de Campo
DESCRIPTION:
URL:https://mcpelsalvador.org.sv/calendario/visita-de-campo-3-2/
END:VEVENT
BEGIN:VEVENT
DTSTART;TZID=America/El_Salvador:20220128T080000
DTEND;TZID=America/El_Salvador:20220128T170000
DTSTAMP:20260425T221949
CREATED:20220111T021334Z
LAST-MODIFIED:20220111T021334Z
UID:16454-1643356800-1643389200@mcpelsalvador.org.sv
SUMMARY:Comité ME planes de compra e indicadores MINSAL
DESCRIPTION:
URL:https://mcpelsalvador.org.sv/calendario/comite-me-planes-de-compra-e-indicadores-minsal/
END:VEVENT
END:VCALENDAR