BEGIN:VCALENDAR
VERSION:2.0
PRODID:-//MCP El Salvador - ECPv6.15.20//NONSGML v1.0//EN
CALSCALE:GREGORIAN
METHOD:PUBLISH
X-ORIGINAL-URL:https://mcpelsalvador.org.sv
X-WR-CALDESC:Eventos para MCP El Salvador
REFRESH-INTERVAL;VALUE=DURATION:PT1H
X-Robots-Tag:noindex
X-PUBLISHED-TTL:PT1H
BEGIN:VTIMEZONE
TZID:America/El_Salvador
BEGIN:STANDARD
TZOFFSETFROM:-0600
TZOFFSETTO:-0600
TZNAME:CST
DTSTART:20230101T000000
END:STANDARD
END:VTIMEZONE
BEGIN:VEVENT
DTSTART;TZID=America/El_Salvador:20240905T080000
DTEND;TZID=America/El_Salvador:20240905T170000
DTSTAMP:20260424T175747
CREATED:20240102T200935Z
LAST-MODIFIED:20240102T200935Z
UID:19700-1725523200-1725555600@mcpelsalvador.org.sv
SUMMARY:Comité de Propuestas
DESCRIPTION:
URL:https://mcpelsalvador.org.sv/calendario/comite-de-propuestas-20/
END:VEVENT
BEGIN:VEVENT
DTSTART;TZID=America/El_Salvador:20240905T090000
DTEND;TZID=America/El_Salvador:20240905T110000
DTSTAMP:20260424T175747
CREATED:20240905T200357Z
LAST-MODIFIED:20240905T200414Z
UID:21074-1725526800-1725534000@mcpelsalvador.org.sv
SUMMARY:Reunión Plenaria 05-2024
DESCRIPTION:
URL:https://mcpelsalvador.org.sv/calendario/reunion-plenaria-05-2024/
END:VEVENT
BEGIN:VEVENT
DTSTART;TZID=America/El_Salvador:20240910T080000
DTEND;TZID=America/El_Salvador:20240910T170000
DTSTAMP:20260424T175747
CREATED:20240102T201523Z
LAST-MODIFIED:20240102T201523Z
UID:19720-1725955200-1725987600@mcpelsalvador.org.sv
SUMMARY:Diálogo de país
DESCRIPTION:
URL:https://mcpelsalvador.org.sv/calendario/dialogo-de-pais-5/
END:VEVENT
BEGIN:VEVENT
DTSTART;TZID=America/El_Salvador:20240912T083000
DTEND;TZID=America/El_Salvador:20240912T160000
DTSTAMP:20260424T175747
CREATED:20240912T010203Z
LAST-MODIFIED:20240912T010217Z
UID:21083-1726129800-1726156800@mcpelsalvador.org.sv
SUMMARY:Reunión Plenaria Extraordinaria
DESCRIPTION:
URL:https://mcpelsalvador.org.sv/calendario/reunion-plenaria-extra/
END:VEVENT
BEGIN:VEVENT
DTSTART;TZID=America/El_Salvador:20240917T080000
DTEND;TZID=America/El_Salvador:20240917T170000
DTSTAMP:20260424T175747
CREATED:20240102T201300Z
LAST-MODIFIED:20240102T201300Z
UID:19712-1726560000-1726592400@mcpelsalvador.org.sv
SUMMARY:Visita de Campo
DESCRIPTION:
URL:https://mcpelsalvador.org.sv/calendario/visita-de-campo-40/
END:VEVENT
BEGIN:VEVENT
DTSTART;TZID=America/El_Salvador:20240919T080000
DTEND;TZID=America/El_Salvador:20240919T170000
DTSTAMP:20260424T175747
CREATED:20240102T174154Z
LAST-MODIFIED:20240102T174154Z
UID:19656-1726732800-1726765200@mcpelsalvador.org.sv
SUMMARY:Plenaria de Supervisión
DESCRIPTION:
URL:https://mcpelsalvador.org.sv/calendario/plenaria-de-supervision-31/
END:VEVENT
END:VCALENDAR