BEGIN:VCALENDAR
VERSION:2.0
PRODID:-//MCP El Salvador - ECPv6.15.20//NONSGML v1.0//EN
CALSCALE:GREGORIAN
METHOD:PUBLISH
X-ORIGINAL-URL:https://mcpelsalvador.org.sv
X-WR-CALDESC:Eventos para MCP El Salvador
REFRESH-INTERVAL;VALUE=DURATION:PT1H
X-Robots-Tag:noindex
X-PUBLISHED-TTL:PT1H
BEGIN:VTIMEZONE
TZID:America/El_Salvador
BEGIN:STANDARD
TZOFFSETFROM:-0600
TZOFFSETTO:-0600
TZNAME:CST
DTSTART:20240101T000000
END:STANDARD
END:VTIMEZONE
BEGIN:VEVENT
DTSTART;TZID=America/El_Salvador:20251009T080000
DTEND;TZID=America/El_Salvador:20251009T170000
DTSTAMP:20260423T193755
CREATED:20241210T161338Z
LAST-MODIFIED:20241210T161338Z
UID:21366-1759996800-1760029200@mcpelsalvador.org.sv
SUMMARY:Comité Conjunto
DESCRIPTION:
URL:https://mcpelsalvador.org.sv/calendario/comite-conjunto-15/
END:VEVENT
BEGIN:VEVENT
DTSTART;TZID=America/El_Salvador:20251016T080000
DTEND;TZID=America/El_Salvador:20251016T170000
DTSTAMP:20260423T193755
CREATED:20241210T161126Z
LAST-MODIFIED:20241210T161126Z
UID:21357-1760601600-1760634000@mcpelsalvador.org.sv
SUMMARY:Comité Ejecutivo ampliado
DESCRIPTION:
URL:https://mcpelsalvador.org.sv/calendario/comite-ejecutivo-ampliado-33/
END:VEVENT
BEGIN:VEVENT
DTSTART;TZID=America/El_Salvador:20251023T080000
DTEND;TZID=America/El_Salvador:20251023T170000
DTSTAMP:20260423T193755
CREATED:20241210T160846Z
LAST-MODIFIED:20251017T144327Z
UID:21346-1761206400-1761238800@mcpelsalvador.org.sv
SUMMARY:Plenaria de aprobación
DESCRIPTION:
URL:https://mcpelsalvador.org.sv/calendario/plenaria-de-aprobacion-37/
END:VEVENT
BEGIN:VEVENT
DTSTART;TZID=America/El_Salvador:20251030T080000
DTEND;TZID=America/El_Salvador:20251030T170000
DTSTAMP:20260423T193755
CREATED:20241210T162336Z
LAST-MODIFIED:20241210T162336Z
UID:21402-1761811200-1761843600@mcpelsalvador.org.sv
SUMMARY:Fortalecimiento a miembros en MLC
DESCRIPTION:
URL:https://mcpelsalvador.org.sv/calendario/fortalecimiento-a-miembros-en-mlc-3/
END:VEVENT
END:VCALENDAR