BEGIN:VCALENDAR
VERSION:2.0
PRODID:-//MCP El Salvador - ECPv6.15.20//NONSGML v1.0//EN
CALSCALE:GREGORIAN
METHOD:PUBLISH
X-ORIGINAL-URL:https://mcpelsalvador.org.sv
X-WR-CALDESC:Eventos para MCP El Salvador
REFRESH-INTERVAL;VALUE=DURATION:PT1H
X-Robots-Tag:noindex
X-PUBLISHED-TTL:PT1H
BEGIN:VTIMEZONE
TZID:America/El_Salvador
BEGIN:STANDARD
TZOFFSETFROM:-0600
TZOFFSETTO:-0600
TZNAME:CST
DTSTART:20250101T000000
END:STANDARD
END:VTIMEZONE
BEGIN:VEVENT
DTSTART;TZID=America/El_Salvador:20260129T090000
DTEND;TZID=America/El_Salvador:20260129T113000
DTSTAMP:20260423T142927
CREATED:20260126T164808Z
LAST-MODIFIED:20260126T164808Z
UID:23061-1769677200-1769686200@mcpelsalvador.org.sv
SUMMARY:Reunión ME01-2026
DESCRIPTION:
URL:https://mcpelsalvador.org.sv/calendario/reunion-me01-2026/
END:VEVENT
END:VCALENDAR